BEGIN:VCALENDAR
VERSION:2.0
PRODID:-//Sew There Sac - ECPv6.15.20//NONSGML v1.0//EN
CALSCALE:GREGORIAN
METHOD:PUBLISH
X-ORIGINAL-URL:https://sewtheresac.com
X-WR-CALDESC:Events for Sew There Sac
REFRESH-INTERVAL;VALUE=DURATION:PT1H
X-Robots-Tag:noindex
X-PUBLISHED-TTL:PT1H
BEGIN:VTIMEZONE
TZID:America/Los_Angeles
BEGIN:DAYLIGHT
TZOFFSETFROM:-0800
TZOFFSETTO:-0700
TZNAME:PDT
DTSTART:20250309T100000
END:DAYLIGHT
BEGIN:STANDARD
TZOFFSETFROM:-0700
TZOFFSETTO:-0800
TZNAME:PST
DTSTART:20251102T090000
END:STANDARD
BEGIN:DAYLIGHT
TZOFFSETFROM:-0800
TZOFFSETTO:-0700
TZNAME:PDT
DTSTART:20260308T100000
END:DAYLIGHT
BEGIN:STANDARD
TZOFFSETFROM:-0700
TZOFFSETTO:-0800
TZNAME:PST
DTSTART:20261101T090000
END:STANDARD
BEGIN:DAYLIGHT
TZOFFSETFROM:-0800
TZOFFSETTO:-0700
TZNAME:PDT
DTSTART:20270314T100000
END:DAYLIGHT
BEGIN:STANDARD
TZOFFSETFROM:-0700
TZOFFSETTO:-0800
TZNAME:PST
DTSTART:20271107T090000
END:STANDARD
END:VTIMEZONE
BEGIN:VEVENT
DTSTART;TZID=America/Los_Angeles:20260306T103000
DTEND;TZID=America/Los_Angeles:20260306T150000
DTSTAMP:20260424T170352
CREATED:20260212T181416Z
LAST-MODIFIED:20260212T181416Z
UID:1317-1772793000-1772809200@sewtheresac.com
SUMMARY:Sit and Sew On! 3/6/26 (Folsom Location)
DESCRIPTION:CLASS DESCRIPTIONSit and Sew On is a great way to have fun while completing your projects. Without all the distractions found at home\, you’ll be so surprised at just how much you’ll achieve. Bring your UFO’s (unfinished objects) or projects you have been struggling to complete. Don’t know just how to get started on your next idea? You’ll receive guided instruction and clarification to get you started on a solid foundation. Spend the day with other inspiring sewists\, make new friends\, get expert advice\, and SEW ON! \nFEES & DETAILS LISTED BELOW \nPAYMENT DUE BEFORE CLASSPaypal: SewItsaGo@yahoo.comVenmo: @ellen-schmidt-28 \nREGISTER FOR THE CLASSSewItsaGo@yahoo.com
URL:https://sewtheresac.com/event/sit-and-sew-on-3-6-26-folsom-location/
LOCATION:Meissner’s Folsom\, 98 Clarksville Road\, Suite 130\, Folsom\, CA\, 95630\, United States
ATTACH;FMTTYPE=image/jpeg:https://sewtheresac.com/wp-content/uploads/2024/05/Sit-Sew-scaled.jpg
ORGANIZER;CN="Ellen Schmidt":MAILTO:SewItsaGo@yahoo.com
END:VEVENT
BEGIN:VEVENT
DTSTART;TZID=America/Los_Angeles:20260307T100000
DTEND;TZID=America/Los_Angeles:20260307T160000
DTSTAMP:20260424T170352
CREATED:20260217T222216Z
LAST-MODIFIED:20260217T222404Z
UID:1344-1772877600-1772899200@sewtheresac.com
SUMMARY:Sit and Sew for the Day\, 3/7/26 (Folsom)
DESCRIPTION:**Space is limited\, please contact Dana before class for availability. Email: danaluvs2quilt@gmail.com. \nCLASS DESCRIPTIONThis is a day to catch up on all those unfinished projects or to start a new one. If you are having problems with a technique or have questions regarding a pattern I’m happy to help. Bring your project or projects\, lunch\, a drink and something to share fruit\, chips/dip\, etc. \nFEES & DETAILS LISTED BELOW \nPAYMENT FOR 1 DAY CLASSES NOT REQUIRED IN ADVANCE(PLEASE EMAIL DANA IF YOU WILL BE ATTENDING HER CLASS) \nALL OTHER CLASSES MUST BE PAID IN ADVANCECash\, Check\, Venmo (Dana Lahargoue) or Zelle (also Dana Lahargoue) \nQUESTIONS ABOUT THE CLASS OR PAYMENTSEmail: danaluvs2quilt@gmail.com
URL:https://sewtheresac.com/event/sit-and-sew-for-the-day-3-7-26/
LOCATION:Meissner’s Folsom\, 98 Clarksville Road\, Suite 130\, Folsom\, CA\, 95630\, United States
ATTACH;FMTTYPE=image/jpeg:https://sewtheresac.com/wp-content/uploads/2025/09/SitNSew.jpg
ORGANIZER;CN="Dana Lahargoue":MAILTO:danaluvs2quilt@gmail.com
END:VEVENT
BEGIN:VEVENT
DTSTART;TZID=America/Los_Angeles:20260313T103000
DTEND;TZID=America/Los_Angeles:20260313T150000
DTSTAMP:20260424T170352
CREATED:20260212T183818Z
LAST-MODIFIED:20260324T232633Z
UID:1337-1773397800-1773414000@sewtheresac.com
SUMMARY:Fabric Collage Monthly\, 3/13/26
DESCRIPTION:CLASS DESCRIPTION*NEW* Fabric Collage Monthly.The art of fabric collage with Ellen Schmidt.Fabric collage is a versatile and engaging art form that combines the beauty of textiles with creative expression\, offering endless possibilities for artists and crafter’s alike.Who is this class for?• New to fabric collage? Purchase a Laura Heine pattern and kit from her “Whatevers” collection.• Experienced? Join! Bring a collage project of your choice to work on. All forms of fabric collage are welcome.• Questions about this class? Contact Ellen\, email listed below. \nFEES & DETAILS LISTED BELOW \nPAYMENT DUE BEFORE CLASSPaypal: SewItsaGo@yahoo.comVenmo: @ellen-schmidt-28 \nREGISTER FOR THE CLASSSewItsaGo@yahoo.com \nCOSTS$45.00 First Time Students; $25.00 For Returning Students
URL:https://sewtheresac.com/event/fabric-collage-monthly-03-13-26/
LOCATION:Meissner’s Folsom\, 98 Clarksville Road\, Suite 130\, Folsom\, CA\, 95630\, United States
ATTACH;FMTTYPE=image/jpeg:https://sewtheresac.com/wp-content/uploads/2025/10/LargeCactusFabricCollage2.jpg
ORGANIZER;CN="Ellen Schmidt":MAILTO:SewItsaGo@yahoo.com
END:VEVENT
BEGIN:VEVENT
DTSTART;TZID=America/Los_Angeles:20260320T103000
DTEND;TZID=America/Los_Angeles:20260320T150000
DTSTAMP:20260424T170352
CREATED:20260212T182026Z
LAST-MODIFIED:20260212T182026Z
UID:1320-1774002600-1774018800@sewtheresac.com
SUMMARY:Sit and Sew On! 3/20/26 (Folsom Location)
DESCRIPTION:CLASS DESCRIPTIONSit and Sew On is a great way to have fun while completing your projects. Without all the distractions found at home\, you’ll be so surprised at just how much you’ll achieve. Bring your UFO’s (unfinished objects) or projects you have been struggling to complete. Don’t know just how to get started on your next idea? You’ll receive guided instruction and clarification to get you started on a solid foundation. Spend the day with other inspiring sewists\, make new friends\, get expert advice\, and SEW ON! \nFEES & DETAILS LISTED BELOW \nPAYMENT DUE BEFORE CLASSPaypal: SewItsaGo@yahoo.comVenmo: @ellen-schmidt-28 \nREGISTER FOR THE CLASSSewItsaGo@yahoo.com
URL:https://sewtheresac.com/event/sit-and-sew-on-3-20-26-folsom-location/
LOCATION:Meissner’s Folsom\, 98 Clarksville Road\, Suite 130\, Folsom\, CA\, 95630\, United States
ATTACH;FMTTYPE=image/jpeg:https://sewtheresac.com/wp-content/uploads/2024/05/Sit-Sew-scaled.jpg
ORGANIZER;CN="Ellen Schmidt":MAILTO:SewItsaGo@yahoo.com
END:VEVENT
END:VCALENDAR