BEGIN:VCALENDAR
VERSION:2.0
PRODID:-//Sew There Sac - ECPv6.15.20//NONSGML v1.0//EN
CALSCALE:GREGORIAN
METHOD:PUBLISH
X-WR-CALNAME:Sew There Sac
X-ORIGINAL-URL:https://sewtheresac.com
X-WR-CALDESC:Events for Sew There Sac
REFRESH-INTERVAL;VALUE=DURATION:PT1H
X-Robots-Tag:noindex
X-PUBLISHED-TTL:PT1H
BEGIN:VTIMEZONE
TZID:America/Los_Angeles
BEGIN:DAYLIGHT
TZOFFSETFROM:-0800
TZOFFSETTO:-0700
TZNAME:PDT
DTSTART:20250309T100000
END:DAYLIGHT
BEGIN:STANDARD
TZOFFSETFROM:-0700
TZOFFSETTO:-0800
TZNAME:PST
DTSTART:20251102T090000
END:STANDARD
BEGIN:DAYLIGHT
TZOFFSETFROM:-0800
TZOFFSETTO:-0700
TZNAME:PDT
DTSTART:20260308T100000
END:DAYLIGHT
BEGIN:STANDARD
TZOFFSETFROM:-0700
TZOFFSETTO:-0800
TZNAME:PST
DTSTART:20261101T090000
END:STANDARD
BEGIN:DAYLIGHT
TZOFFSETFROM:-0800
TZOFFSETTO:-0700
TZNAME:PDT
DTSTART:20270314T100000
END:DAYLIGHT
BEGIN:STANDARD
TZOFFSETFROM:-0700
TZOFFSETTO:-0800
TZNAME:PST
DTSTART:20271107T090000
END:STANDARD
END:VTIMEZONE
BEGIN:VEVENT
DTSTART;TZID=America/Los_Angeles:20260206T103000
DTEND;TZID=America/Los_Angeles:20260206T150000
DTSTAMP:20260424T184806
CREATED:20260108T182836Z
LAST-MODIFIED:20260108T183521Z
UID:1295-1770373800-1770390000@sewtheresac.com
SUMMARY:Sit and Sew On! 2/6/26 (Folsom Location)
DESCRIPTION:CLASS DESCRIPTIONSit and Sew On is a great way to have fun while completing your projects. Without all the distractions found at home\, you’ll be so surprised at just how much you’ll achieve. Bring your UFO’s (unfinished objects) or projects you have been struggling to complete. Don’t know just how to get started on your next idea? You’ll receive guided instruction and clarification to get you started on a solid foundation. Spend the day with other inspiring sewists\, make new friends\, get expert advice\, and SEW ON! \nFEES & DETAILS LISTED BELOW \nPAYMENT DUE BEFORE CLASSPaypal: SewItsaGo@yahoo.comVenmo: @ellen-schmidt-28 \nREGISTER FOR THE CLASSSewItsaGo@yahoo.com
URL:https://sewtheresac.com/event/sit-and-sew-on-2-6-26-folsom/
LOCATION:Meissner’s Folsom\, 98 Clarksville Road\, Suite 130\, Folsom\, CA\, 95630\, United States
ATTACH;FMTTYPE=image/jpeg:https://sewtheresac.com/wp-content/uploads/2024/05/Sit-Sew-scaled.jpg
ORGANIZER;CN="Ellen Schmidt":MAILTO:SewItsaGo@yahoo.com
END:VEVENT
BEGIN:VEVENT
DTSTART;TZID=America/Los_Angeles:20260213T103000
DTEND;TZID=America/Los_Angeles:20260213T150000
DTSTAMP:20260424T184806
CREATED:20260108T184516Z
LAST-MODIFIED:20260108T184516Z
UID:1305-1770978600-1770994800@sewtheresac.com
SUMMARY:Fabric Collage Monthly\, 02/13/26 (Folsom)
DESCRIPTION:CLASS DESCRIPTION*NEW* Fabric Collage Monthly.The art of fabric collage with Ellen Schmidt.Fabric collage is a versatile and engaging art form that combines the beauty of textiles with creative expression\, offering endless possibilities for artists and crafter’s alike.Who is this class for?• New to fabric collage? Purchase a Laura Heine pattern and kit from her “Whatevers” collection.• Experienced? Join! Bring a collage project of your choice to work on. All forms of fabric collage are welcome.• Questions about this class? Contact Ellen\, email listed below. \nFEES & DETAILS LISTED BELOW \nPAYMENT DUE BEFORE CLASSPaypal: SewItsaGo@yahoo.comVenmo: @ellen-schmidt-28 \nREGISTER FOR THE CLASSSewItsaGo@yahoo.com \nCOSTS$45.00 First Time Students; $25.00 For Returning Students
URL:https://sewtheresac.com/event/fabric-collage-monthly-02-13-26-folsom/
LOCATION:Meissner’s Folsom\, 98 Clarksville Road\, Suite 130\, Folsom\, CA\, 95630\, United States
ATTACH;FMTTYPE=image/jpeg:https://sewtheresac.com/wp-content/uploads/2025/10/LargeCactusFabricCollage2.jpg
ORGANIZER;CN="Ellen Schmidt":MAILTO:SewItsaGo@yahoo.com
END:VEVENT
BEGIN:VEVENT
DTSTART;TZID=America/Los_Angeles:20260214T123000
DTEND;TZID=America/Los_Angeles:20260214T170000
DTSTAMP:20260424T184806
CREATED:20260108T183436Z
LAST-MODIFIED:20260108T183436Z
UID:1301-1771072200-1771088400@sewtheresac.com
SUMMARY:Sit and Sew On! 02/14/26 (Fair Oaks Location)
DESCRIPTION:CLASS DESCRIPTIONSit and Sew On is a great way to have fun while completing your projects. Without all the distractions found at home\, you’ll be so surprised at just how much you’ll achieve. Bring your UFO’s (unfinished objects) or projects you have been struggling to complete. Don’t know just how to get started on your next idea? You’ll receive guided instruction and clarification to get you started on a solid foundation. Spend the day with other inspiring sewists\, make new friends\, get expert advice\, and SEW ON! \nFEES & DETAILS LISTED BELOW \nPAYMENT DUE BEFORE CLASSPaypal: SewItsaGo@yahoo.comVenmo: @ellen-schmidt-28 \nQUESTIONS ABOUT THE CLASSSewItsaGo@yahoo.com
URL:https://sewtheresac.com/event/sit-and-sew-on-02-14-26-fair-oaks/
LOCATION:Raley’s Fair Oaks\, 4840 San Juan Avenue\, Fair Oaks\, CA\, 95628
ATTACH;FMTTYPE=image/jpeg:https://sewtheresac.com/wp-content/uploads/2024/05/Sit-Sew-scaled.jpg
ORGANIZER;CN="Ellen Schmidt":MAILTO:SewItsaGo@yahoo.com
END:VEVENT
BEGIN:VEVENT
DTSTART;TZID=America/Los_Angeles:20260220T103000
DTEND;TZID=America/Los_Angeles:20260220T150000
DTSTAMP:20260424T184806
CREATED:20260108T183020Z
LAST-MODIFIED:20260108T183548Z
UID:1297-1771583400-1771599600@sewtheresac.com
SUMMARY:Sit and Sew On! 2/20/26 (Folsom Location)
DESCRIPTION:CLASS DESCRIPTIONSit and Sew On is a great way to have fun while completing your projects. Without all the distractions found at home\, you’ll be so surprised at just how much you’ll achieve. Bring your UFO’s (unfinished objects) or projects you have been struggling to complete. Don’t know just how to get started on your next idea? You’ll receive guided instruction and clarification to get you started on a solid foundation. Spend the day with other inspiring sewists\, make new friends\, get expert advice\, and SEW ON! \nFEES & DETAILS LISTED BELOW \nPAYMENT DUE BEFORE CLASSPaypal: SewItsaGo@yahoo.comVenmo: @ellen-schmidt-28 \nREGISTER FOR THE CLASSSewItsaGo@yahoo.com
URL:https://sewtheresac.com/event/sit-and-sew-on-2-20-26-folsom/
LOCATION:Meissner’s Folsom\, 98 Clarksville Road\, Suite 130\, Folsom\, CA\, 95630\, United States
ATTACH;FMTTYPE=image/jpeg:https://sewtheresac.com/wp-content/uploads/2024/05/Sit-Sew-scaled.jpg
ORGANIZER;CN="Ellen Schmidt":MAILTO:SewItsaGo@yahoo.com
END:VEVENT
END:VCALENDAR