BEGIN:VCALENDAR
VERSION:2.0
PRODID:-//Sew There Sac - ECPv6.15.20//NONSGML v1.0//EN
CALSCALE:GREGORIAN
METHOD:PUBLISH
X-WR-CALNAME:Sew There Sac
X-ORIGINAL-URL:https://sewtheresac.com
X-WR-CALDESC:Events for Sew There Sac
REFRESH-INTERVAL;VALUE=DURATION:PT1H
X-Robots-Tag:noindex
X-PUBLISHED-TTL:PT1H
BEGIN:VTIMEZONE
TZID:America/Los_Angeles
BEGIN:DAYLIGHT
TZOFFSETFROM:-0800
TZOFFSETTO:-0700
TZNAME:PDT
DTSTART:20240310T100000
END:DAYLIGHT
BEGIN:STANDARD
TZOFFSETFROM:-0700
TZOFFSETTO:-0800
TZNAME:PST
DTSTART:20241103T090000
END:STANDARD
BEGIN:DAYLIGHT
TZOFFSETFROM:-0800
TZOFFSETTO:-0700
TZNAME:PDT
DTSTART:20250309T100000
END:DAYLIGHT
BEGIN:STANDARD
TZOFFSETFROM:-0700
TZOFFSETTO:-0800
TZNAME:PST
DTSTART:20251102T090000
END:STANDARD
BEGIN:DAYLIGHT
TZOFFSETFROM:-0800
TZOFFSETTO:-0700
TZNAME:PDT
DTSTART:20260308T100000
END:DAYLIGHT
BEGIN:STANDARD
TZOFFSETFROM:-0700
TZOFFSETTO:-0800
TZNAME:PST
DTSTART:20261101T090000
END:STANDARD
END:VTIMEZONE
BEGIN:VEVENT
DTSTART;TZID=America/Los_Angeles:20250705T110000
DTEND;TZID=America/Los_Angeles:20250705T160000
DTSTAMP:20260425T070536
CREATED:20250612T224114Z
LAST-MODIFIED:20250616T214602Z
UID:1143-1751713200-1751731200@sewtheresac.com
SUMMARY:Projects Unlimited\, 7/5/25
DESCRIPTION:CLASS DESCRIPTION\nWant to create? Stuck on your current project? Need a little advice or encouragement? I can help! Bring your machine(s) and a project of your choice and embark on the road to creative sewing. Work at your own pace and learn tips and techniques to make the most of your sewing time. If sewing a garment\, please bring your pattern in the proper size\, as I do not cover alterations in this class. \nOur project unlimited class is also referred to as a Sit N Sew. \nFEES & DETAILS LISTED BELOW \nPAYMENT DUE BEFORE CLASS\nVenmo: @mselaineous51 OR PayPal: mselaineous51@hotmail.com \nQUESTIONS ABOUT THE CLASS\nEmail: mselaineous51@hotmail.com
URL:https://sewtheresac.com/event/projects-unlimited-7-5-25/
LOCATION:Meissner’s Folsom\, 98 Clarksville Road\, Suite 130\, Folsom\, CA\, 95630\, United States
ATTACH;FMTTYPE=image/jpeg:https://sewtheresac.com/wp-content/uploads/2024/05/Hip-To-Be-Square2.jpg
ORGANIZER;CN="Elaine Buchanan":MAILTO:mselaineous51@hotmail.com
END:VEVENT
BEGIN:VEVENT
DTSTART;TZID=America/Los_Angeles:20250705T123000
DTEND;TZID=America/Los_Angeles:20250705T173000
DTSTAMP:20260425T070536
CREATED:20250517T214555Z
LAST-MODIFIED:20250517T214555Z
UID:1120-1751718600-1751736600@sewtheresac.com
SUMMARY:Sit and Sew On! 7/5/25 (Fair Oaks Location)
DESCRIPTION:CLASS DESCRIPTIONSit and Sew On is a great way to have fun while completing your projects. Without all the distractions found at home\, you’ll be so surprised at just how much you’ll achieve. Bring your UFO’s (unfinished objects) or projects you have been struggling to complete. Don’t know just how to get started on your next idea? You’ll receive guided instruction and clarification to get you started on a solid foundation. Spend the day with other inspiring sewists\, make new friends\, get expert advice\, and SEW ON! \nFEES & DETAILS LISTED BELOW \nPAYMENT DUE BEFORE CLASSPaypal: SewItsaGo@yahoo.comVenmo: @ellen-schmidt-28 \nQUESTIONS ABOUT THE CLASSSewItsaGo@yahoo.com
URL:https://sewtheresac.com/event/sit-and-sew-on-7-5-25-fair-oaks-location/
LOCATION:Raley’s Fair Oaks\, 4840 San Juan Avenue\, Fair Oaks\, CA\, 95628
ATTACH;FMTTYPE=image/jpeg:https://sewtheresac.com/wp-content/uploads/2024/05/Sit-Sew-scaled.jpg
ORGANIZER;CN="Ellen Schmidt":MAILTO:SewItsaGo@yahoo.com
END:VEVENT
BEGIN:VEVENT
DTSTART;TZID=America/Los_Angeles:20250709T103000
DTEND;TZID=America/Los_Angeles:20250709T153000
DTSTAMP:20260425T070536
CREATED:20250517T213139Z
LAST-MODIFIED:20250517T214445Z
UID:1112-1752057000-1752075000@sewtheresac.com
SUMMARY:Sit and Sew On! 7/9/25 (Folsom Location)
DESCRIPTION:CLASS DESCRIPTIONSit and Sew On is a great way to have fun while completing your projects. Without all the distractions found at home\, you’ll be so surprised at just how much you’ll achieve. Bring your UFO’s (unfinished objects) or projects you have been struggling to complete. Don’t know just how to get started on your next idea? You’ll receive guided instruction and clarification to get you started on a solid foundation. Spend the day with other inspiring sewists\, make new friends\, get expert advice\, and SEW ON! \nFEES & DETAILS LISTED BELOW \nPAYMENT DUE BEFORE CLASSPaypal: SewItsaGo@yahoo.comVenmo: @ellen-schmidt-28 \nREGISTER FOR THE CLASSSewItsaGo@yahoo.com
URL:https://sewtheresac.com/event/sit-and-sew-on-7-9-25/
LOCATION:Meissner’s Folsom\, 98 Clarksville Road\, Suite 130\, Folsom\, CA\, 95630\, United States
ATTACH;FMTTYPE=image/jpeg:https://sewtheresac.com/wp-content/uploads/2024/05/Sit-Sew-scaled.jpg
ORGANIZER;CN="Ellen Schmidt":MAILTO:SewItsaGo@yahoo.com
END:VEVENT
BEGIN:VEVENT
DTSTART;TZID=America/Los_Angeles:20250711T110000
DTEND;TZID=America/Los_Angeles:20250711T160000
DTSTAMP:20260425T070536
CREATED:20250612T224239Z
LAST-MODIFIED:20250616T214518Z
UID:1145-1752231600-1752249600@sewtheresac.com
SUMMARY:Projects Unlimited\, 7/11/25
DESCRIPTION:CLASS DESCRIPTION\nWant to create? Stuck on your current project? Need a little advice or encouragement? I can help! Bring your machine(s) and a project of your choice and embark on the road to creative sewing. Work at your own pace and learn tips and techniques to make the most of your sewing time. If sewing a garment\, please bring your pattern in the proper size\, as I do not cover alterations in this class. \nOur project unlimited class is also referred to as a Sit N Sew. \nFEES & DETAILS LISTED BELOW \nPAYMENT DUE BEFORE CLASS\nVenmo: @mselaineous51 OR PayPal: mselaineous51@hotmail.com \nQUESTIONS ABOUT THE CLASS\nEmail: mselaineous51@hotmail.com
URL:https://sewtheresac.com/event/projects-unlimited-7-11-25/
LOCATION:Meissner’s Folsom\, 98 Clarksville Road\, Suite 130\, Folsom\, CA\, 95630\, United States
ATTACH;FMTTYPE=image/jpeg:https://sewtheresac.com/wp-content/uploads/2024/05/Hip-To-Be-Square2.jpg
ORGANIZER;CN="Elaine Buchanan":MAILTO:mselaineous51@hotmail.com
END:VEVENT
BEGIN:VEVENT
DTSTART;TZID=America/Los_Angeles:20250718T110000
DTEND;TZID=America/Los_Angeles:20250718T160000
DTSTAMP:20260425T070536
CREATED:20250612T224409Z
LAST-MODIFIED:20250616T214424Z
UID:1147-1752836400-1752854400@sewtheresac.com
SUMMARY:Projects Unlimited\, 7/18/25
DESCRIPTION:CLASS DESCRIPTION\nWant to create? Stuck on your current project? Need a little advice or encouragement? I can help! Bring your machine(s) and a project of your choice and embark on the road to creative sewing. Work at your own pace and learn tips and techniques to make the most of your sewing time. If sewing a garment\, please bring your pattern in the proper size\, as I do not cover alterations in this class. \nOur project unlimited class is also referred to as a Sit N Sew. \nFEES & DETAILS LISTED BELOW \nPAYMENT DUE BEFORE CLASS\nVenmo: @mselaineous51 OR PayPal: mselaineous51@hotmail.com \nQUESTIONS ABOUT THE CLASS\nEmail: mselaineous51@hotmail.com
URL:https://sewtheresac.com/event/projects-unlimited-7-18-25/
LOCATION:Meissner’s Folsom\, 98 Clarksville Road\, Suite 130\, Folsom\, CA\, 95630\, United States
ATTACH;FMTTYPE=image/jpeg:https://sewtheresac.com/wp-content/uploads/2024/05/Hip-To-Be-Square2.jpg
ORGANIZER;CN="Elaine Buchanan":MAILTO:mselaineous51@hotmail.com
END:VEVENT
BEGIN:VEVENT
DTSTART;TZID=America/Los_Angeles:20250719T123000
DTEND;TZID=America/Los_Angeles:20250719T173000
DTSTAMP:20260425T070536
CREATED:20250517T214706Z
LAST-MODIFIED:20250517T214706Z
UID:1127-1752928200-1752946200@sewtheresac.com
SUMMARY:Sit and Sew On! 7/19/25 (Fair Oaks Location)
DESCRIPTION:CLASS DESCRIPTIONSit and Sew On is a great way to have fun while completing your projects. Without all the distractions found at home\, you’ll be so surprised at just how much you’ll achieve. Bring your UFO’s (unfinished objects) or projects you have been struggling to complete. Don’t know just how to get started on your next idea? You’ll receive guided instruction and clarification to get you started on a solid foundation. Spend the day with other inspiring sewists\, make new friends\, get expert advice\, and SEW ON! \nFEES & DETAILS LISTED BELOW \nPAYMENT DUE BEFORE CLASSPaypal: SewItsaGo@yahoo.comVenmo: @ellen-schmidt-28 \nQUESTIONS ABOUT THE CLASSSewItsaGo@yahoo.com
URL:https://sewtheresac.com/event/sit-and-sew-on-7-19-25/
LOCATION:Raley’s Fair Oaks\, 4840 San Juan Avenue\, Fair Oaks\, CA\, 95628
ATTACH;FMTTYPE=image/jpeg:https://sewtheresac.com/wp-content/uploads/2024/05/Sit-Sew-scaled.jpg
ORGANIZER;CN="Ellen Schmidt":MAILTO:SewItsaGo@yahoo.com
END:VEVENT
BEGIN:VEVENT
DTSTART;TZID=America/Los_Angeles:20250723T110000
DTEND;TZID=America/Los_Angeles:20250723T160000
DTSTAMP:20260425T070536
CREATED:20250612T224546Z
LAST-MODIFIED:20250616T213755Z
UID:1149-1753268400-1753286400@sewtheresac.com
SUMMARY:Projects Unlimited\, 7/23/25
DESCRIPTION:CLASS DESCRIPTION\nWant to create? Stuck on your current project? Need a little advice or encouragement? I can help! Bring your machine(s) and a project of your choice and embark on the road to creative sewing. Work at your own pace and learn tips and techniques to make the most of your sewing time. If sewing a garment\, please bring your pattern in the proper size\, as I do not cover alterations in this class. \nOur project unlimited class is also referred to as a Sit N Sew. \nFEES & DETAILS LISTED BELOW \nPAYMENT DUE BEFORE CLASS\nVenmo: @mselaineous51 OR PayPal: mselaineous51@hotmail.com \nQUESTIONS ABOUT THE CLASS\nEmail: mselaineous51@hotmail.com
URL:https://sewtheresac.com/event/projects-unlimited-7-23-25/
LOCATION:Meissner’s Folsom\, 98 Clarksville Road\, Suite 130\, Folsom\, CA\, 95630\, United States
ATTACH;FMTTYPE=image/jpeg:https://sewtheresac.com/wp-content/uploads/2024/05/Hip-To-Be-Square2.jpg
ORGANIZER;CN="Elaine Buchanan":MAILTO:mselaineous51@hotmail.com
END:VEVENT
BEGIN:VEVENT
DTSTART;TZID=America/Los_Angeles:20250725T103000
DTEND;TZID=America/Los_Angeles:20250725T133000
DTSTAMP:20260425T070536
CREATED:20250517T215054Z
LAST-MODIFIED:20250517T215054Z
UID:1130-1753439400-1753450200@sewtheresac.com
SUMMARY:Sashiko Mystery Club\, 7/25/25
DESCRIPTION:CLASS DESCRIPTIONOne simple stitch – a world of techniques.  This machine produces a stitch that looks like the traditional sashiko hand stitch without all the work.  After reviewing the basics of the machine\, we’ll dive into fun techniques such as slip stitching\, adding beads and more.  Students are encouraged to share samples of their work.  Each month will feature a different technique.NOTE:  For owners of the Babylock Sashiko machine only. \nFEES & DETAILS LISTED BELOW \nPAYMENT DUE BEFORE CLASSPaypal: SewItsaGo@yahoo.comVenmo: @ellen-schmidt-28 \nQUESTIONS ABOUT THE CLASSSewItsaGo@yahoo.com
URL:https://sewtheresac.com/event/sashiko-mystery-club-7-25-25/
LOCATION:Meissner’s Folsom\, 98 Clarksville Road\, Suite 130\, Folsom\, CA\, 95630\, United States
ATTACH;FMTTYPE=image/jpeg:https://sewtheresac.com/wp-content/uploads/2024/05/Sashiko-Club.jpg
ORGANIZER;CN="Ellen Schmidt":MAILTO:SewItsaGo@yahoo.com
END:VEVENT
BEGIN:VEVENT
DTSTART;TZID=America/Los_Angeles:20250730T110000
DTEND;TZID=America/Los_Angeles:20250730T160000
DTSTAMP:20260425T070536
CREATED:20250612T224705Z
LAST-MODIFIED:20250616T213627Z
UID:1151-1753873200-1753891200@sewtheresac.com
SUMMARY:Projects Unlimited\, 7/30/25
DESCRIPTION:CLASS DESCRIPTION\nWant to create? Stuck on your current project? Need a little advice or encouragement? I can help! Bring your machine(s) and a project of your choice and embark on the road to creative sewing. Work at your own pace and learn tips and techniques to make the most of your sewing time. If sewing a garment\, please bring your pattern in the proper size\, as I do not cover alterations in this class. \nOur project unlimited class is also referred to as a Sit N Sew. \nFEES & DETAILS LISTED BELOW \nPAYMENT DUE BEFORE CLASS\nVenmo: @mselaineous51 OR PayPal: mselaineous51@hotmail.com \nQUESTIONS ABOUT THE CLASS\nEmail: mselaineous51@hotmail.com
URL:https://sewtheresac.com/event/projects-unlimited-7-30-25/
LOCATION:Meissner’s Folsom\, 98 Clarksville Road\, Suite 130\, Folsom\, CA\, 95630\, United States
ATTACH;FMTTYPE=image/jpeg:https://sewtheresac.com/wp-content/uploads/2024/05/Hip-To-Be-Square2.jpg
ORGANIZER;CN="Elaine Buchanan":MAILTO:mselaineous51@hotmail.com
END:VEVENT
END:VCALENDAR