BEGIN:VCALENDAR
VERSION:2.0
PRODID:-//Sew There Sac - ECPv6.15.20//NONSGML v1.0//EN
CALSCALE:GREGORIAN
METHOD:PUBLISH
X-WR-CALNAME:Sew There Sac
X-ORIGINAL-URL:https://sewtheresac.com
X-WR-CALDESC:Events for Sew There Sac
REFRESH-INTERVAL;VALUE=DURATION:PT1H
X-Robots-Tag:noindex
X-PUBLISHED-TTL:PT1H
BEGIN:VTIMEZONE
TZID:America/Los_Angeles
BEGIN:DAYLIGHT
TZOFFSETFROM:-0800
TZOFFSETTO:-0700
TZNAME:PDT
DTSTART:20240310T100000
END:DAYLIGHT
BEGIN:STANDARD
TZOFFSETFROM:-0700
TZOFFSETTO:-0800
TZNAME:PST
DTSTART:20241103T090000
END:STANDARD
BEGIN:DAYLIGHT
TZOFFSETFROM:-0800
TZOFFSETTO:-0700
TZNAME:PDT
DTSTART:20250309T100000
END:DAYLIGHT
BEGIN:STANDARD
TZOFFSETFROM:-0700
TZOFFSETTO:-0800
TZNAME:PST
DTSTART:20251102T090000
END:STANDARD
BEGIN:DAYLIGHT
TZOFFSETFROM:-0800
TZOFFSETTO:-0700
TZNAME:PDT
DTSTART:20260308T100000
END:DAYLIGHT
BEGIN:STANDARD
TZOFFSETFROM:-0700
TZOFFSETTO:-0800
TZNAME:PST
DTSTART:20261101T090000
END:STANDARD
END:VTIMEZONE
BEGIN:VEVENT
DTSTART;TZID=America/Los_Angeles:20250404T120000
DTEND;TZID=America/Los_Angeles:20250404T170000
DTSTAMP:20260425T125720
CREATED:20250301T021418Z
LAST-MODIFIED:20250301T021418Z
UID:1034-1743768000-1743786000@sewtheresac.com
SUMMARY:Projects Unlimited\, 4/4/25
DESCRIPTION:CLASS DESCRIPTION\nWant to create? Stuck on your current project? Need a little advice or encouragement? I can help! Bring your machine(s) and a project of your choice and embark on the road to creative sewing. Work at your own pace and learn tips and techniques to make the most of your sewing time. If sewing a garment\, please bring your pattern in the proper size\, as I do not cover alterations in this class. \nOur project unlimited class is also referred to as a Sit N Sew. \nFEES & DETAILS LISTED BELOW \nPAYMENT DUE BEFORE CLASS\nVenmo: @mselaineous51 OR PayPal: mselaineous51@hotmail.com \nQUESTIONS ABOUT THE CLASS\nEmail: mselaineous51@hotmail.com
URL:https://sewtheresac.com/event/projects-unlimited-4-4-25/
LOCATION:Meissner’s Folsom\, 98 Clarksville Road\, Suite 130\, Folsom\, CA\, 95630\, United States
ATTACH;FMTTYPE=image/jpeg:https://sewtheresac.com/wp-content/uploads/2024/05/Hip-To-Be-Square2.jpg
ORGANIZER;CN="Elaine Buchanan":MAILTO:mselaineous51@hotmail.com
END:VEVENT
BEGIN:VEVENT
DTSTART;TZID=America/Los_Angeles:20250410T120000
DTEND;TZID=America/Los_Angeles:20250410T170000
DTSTAMP:20260425T125720
CREATED:20250301T021542Z
LAST-MODIFIED:20250301T021542Z
UID:1036-1744286400-1744304400@sewtheresac.com
SUMMARY:Projects Unlimited\, 4/10/25
DESCRIPTION:CLASS DESCRIPTION\nWant to create? Stuck on your current project? Need a little advice or encouragement? I can help! Bring your machine(s) and a project of your choice and embark on the road to creative sewing. Work at your own pace and learn tips and techniques to make the most of your sewing time. If sewing a garment\, please bring your pattern in the proper size\, as I do not cover alterations in this class. \nOur project unlimited class is also referred to as a Sit N Sew. \nFEES & DETAILS LISTED BELOW \nPAYMENT DUE BEFORE CLASS\nVenmo: @mselaineous51 OR PayPal: mselaineous51@hotmail.com \nQUESTIONS ABOUT THE CLASS\nEmail: mselaineous51@hotmail.com
URL:https://sewtheresac.com/event/projects-unlimited-4-10-25/
LOCATION:Meissner’s Folsom\, 98 Clarksville Road\, Suite 130\, Folsom\, CA\, 95630\, United States
ATTACH;FMTTYPE=image/jpeg:https://sewtheresac.com/wp-content/uploads/2024/05/Hip-To-Be-Square2.jpg
ORGANIZER;CN="Elaine Buchanan":MAILTO:mselaineous51@hotmail.com
END:VEVENT
BEGIN:VEVENT
DTSTART;TZID=America/Los_Angeles:20250412T110000
DTEND;TZID=America/Los_Angeles:20250412T160000
DTSTAMP:20260425T125720
CREATED:20250301T024513Z
LAST-MODIFIED:20250301T024513Z
UID:1041-1744455600-1744473600@sewtheresac.com
SUMMARY:One Block Wonder\, 4/12/25 (Class 1 of 2)
DESCRIPTION:CLASS DESCRIPTIONOne fabric\, one shape\, one-of-a-kind quilt. Come join Elaine for two fabulous afternoons of fun and inspiration as she takes to fear and mystery out of this classic technique. The key to success is selecting a fabric with a minimum 24” repeat and interesting design elements. See instructor for assistance with fabric selection. \nTwo classes are held on:April 12th and 26th\, 2025. \nFEES & DETAILS LISTED BELOW \nPAYMENT DUE BEFORE CLASSVenmo: @mselaineous51 OR PayPal: mselaineous51@hotmail.com \nQUESTIONS ABOUT THE CLASSEmail: mselaineous51@hotmail.com
URL:https://sewtheresac.com/event/one-block-wonder-4-12-25/
LOCATION:Meissner’s Folsom\, 98 Clarksville Road\, Suite 130\, Folsom\, CA\, 95630\, United States
ATTACH;FMTTYPE=image/jpeg:https://sewtheresac.com/wp-content/uploads/2024/06/One-Block-3b.jpg
ORGANIZER;CN="Elaine Buchanan":MAILTO:mselaineous51@hotmail.com
END:VEVENT
BEGIN:VEVENT
DTSTART;TZID=America/Los_Angeles:20250416T103000
DTEND;TZID=America/Los_Angeles:20250416T153000
DTSTAMP:20260425T125720
CREATED:20250402T233159Z
LAST-MODIFIED:20250402T233159Z
UID:1068-1744799400-1744817400@sewtheresac.com
SUMMARY:Sit and Sew On! 4/16/25
DESCRIPTION:CLASS DESCRIPTIONSit and Sew On is a great way to have fun while completing your projects. Without all the distractions found at home\, you’ll be so surprised at just how much you’ll achieve. Bring your UFO’s (unfinished objects) or projects you have been struggling to complete. Don’t know just how to get started on your next idea? You’ll receive guided instruction and clarification to get you started on a solid foundation. Spend the day with other inspiring sewists\, make new friends\, get expert advice\, and SEW ON! \nFEES & DETAILS LISTED BELOW \nPAYMENT DUE BEFORE CLASSPaypal: SewItsaGo@yahoo.comVenmo: @ellen-schmidt-28 \nREGISTER FOR THE CLASSSewItsaGo@yahoo.com
URL:https://sewtheresac.com/event/sit-and-sew-on-4-16-25/
LOCATION:Meissner’s Folsom\, 98 Clarksville Road\, Suite 130\, Folsom\, CA\, 95630\, United States
ATTACH;FMTTYPE=image/jpeg:https://sewtheresac.com/wp-content/uploads/2024/05/Sit-Sew-scaled.jpg
ORGANIZER;CN="Ellen Schmidt":MAILTO:SewItsaGo@yahoo.com
END:VEVENT
BEGIN:VEVENT
DTSTART;TZID=America/Los_Angeles:20250418T103000
DTEND;TZID=America/Los_Angeles:20250418T133000
DTSTAMP:20260425T125720
CREATED:20250402T233641Z
LAST-MODIFIED:20250402T233641Z
UID:1056-1744972200-1744983000@sewtheresac.com
SUMMARY:Sashiko Mystery Club
DESCRIPTION:CLASS DESCRIPTIONOne simple stitch – a world of techniques. This machine produces a stitch that looks like the traditional sashiko hand stitch without all the work. After reviewing the basics of the machine\, we’ll dive into fun techniques such as slip stitching\, adding beads and more. Students are encouraged to share samples of their work. Each month will feature a different technique.NOTE: For owners of the Babylock Sashiko machine only. \nFEES & DETAILS LISTED BELOW \nPAYMENT DUE BEFORE CLASSPaypal: SewItsaGo@yahoo.comVenmo: @ellen-schmidt-28 \nREGISTER FOR THE CLASSSewItsaGo@yahoo.com
URL:https://sewtheresac.com/event/sashiko-mystery-club/
LOCATION:Meissner’s Folsom\, 98 Clarksville Road\, Suite 130\, Folsom\, CA\, 95630\, United States
ATTACH;FMTTYPE=image/jpeg:https://sewtheresac.com/wp-content/uploads/2025/04/Sashiko-Machine.jpg
ORGANIZER;CN="Ellen Schmidt":MAILTO:SewItsaGo@yahoo.com
END:VEVENT
BEGIN:VEVENT
DTSTART;TZID=America/Los_Angeles:20250418T120000
DTEND;TZID=America/Los_Angeles:20250418T170000
DTSTAMP:20260425T125720
CREATED:20250301T021756Z
LAST-MODIFIED:20250301T021756Z
UID:1038-1744977600-1744995600@sewtheresac.com
SUMMARY:Projects Unlimited\, 4/18/25
DESCRIPTION:CLASS DESCRIPTION\nWant to create? Stuck on your current project? Need a little advice or encouragement? I can help! Bring your machine(s) and a project of your choice and embark on the road to creative sewing. Work at your own pace and learn tips and techniques to make the most of your sewing time. If sewing a garment\, please bring your pattern in the proper size\, as I do not cover alterations in this class. \nOur project unlimited class is also referred to as a Sit N Sew. \nFEES & DETAILS LISTED BELOW \nPAYMENT DUE BEFORE CLASS\nVenmo: @mselaineous51 OR PayPal: mselaineous51@hotmail.com \nQUESTIONS ABOUT THE CLASS\nEmail: mselaineous51@hotmail.com
URL:https://sewtheresac.com/event/projects-unlimited-4-18-25/
LOCATION:Meissner’s Folsom\, 98 Clarksville Road\, Suite 130\, Folsom\, CA\, 95630\, United States
ATTACH;FMTTYPE=image/jpeg:https://sewtheresac.com/wp-content/uploads/2024/05/Hip-To-Be-Square2.jpg
ORGANIZER;CN="Elaine Buchanan":MAILTO:mselaineous51@hotmail.com
END:VEVENT
BEGIN:VEVENT
DTSTART;TZID=America/Los_Angeles:20250425T103000
DTEND;TZID=America/Los_Angeles:20250425T133000
DTSTAMP:20260425T125720
CREATED:20250402T232321Z
LAST-MODIFIED:20250402T232443Z
UID:1051-1745577000-1745587800@sewtheresac.com
SUMMARY:Bright Poppy Collage (4/25/25) 1 of 2
DESCRIPTION:CLASS DESCRIPTIONUse a simple paint-by-number process to create this vibrant fabric artwork. This class was developed with those in mind who do not consider themselves artist and those who do have that painterly eye. By combining the fabrics and patterns that are included in the class fee\, with a quick-fuse technique\, you can create a masterpiece. The class is two sessions. Please contact the teacher\, Ellen Schmidt\, register for this class. \nFEES & DETAILS LISTED BELOW \nPAYMENT DUE BEFORE CLASSPaypal: SewItsaGo@yahoo.comVenmo: @ellen-schmidt-28 \nREGISTER FOR THE CLASSSewItsaGo@yahoo.com
URL:https://sewtheresac.com/event/bright-poppy-collage-1-of-2/
LOCATION:Meissner’s Folsom\, 98 Clarksville Road\, Suite 130\, Folsom\, CA\, 95630\, United States
ATTACH;FMTTYPE=image/jpeg:https://sewtheresac.com/wp-content/uploads/2025/04/Poppy-Colored.jpg
ORGANIZER;CN="Ellen Schmidt":MAILTO:SewItsaGo@yahoo.com
END:VEVENT
END:VCALENDAR