BEGIN:VCALENDAR
VERSION:2.0
PRODID:-//Sew There Sac - ECPv6.15.20//NONSGML v1.0//EN
CALSCALE:GREGORIAN
METHOD:PUBLISH
X-ORIGINAL-URL:https://sewtheresac.com
X-WR-CALDESC:Events for Sew There Sac
REFRESH-INTERVAL;VALUE=DURATION:PT1H
X-Robots-Tag:noindex
X-PUBLISHED-TTL:PT1H
BEGIN:VTIMEZONE
TZID:America/Los_Angeles
BEGIN:DAYLIGHT
TZOFFSETFROM:-0800
TZOFFSETTO:-0700
TZNAME:PDT
DTSTART:20230312T100000
END:DAYLIGHT
BEGIN:STANDARD
TZOFFSETFROM:-0700
TZOFFSETTO:-0800
TZNAME:PST
DTSTART:20231105T090000
END:STANDARD
BEGIN:DAYLIGHT
TZOFFSETFROM:-0800
TZOFFSETTO:-0700
TZNAME:PDT
DTSTART:20240310T100000
END:DAYLIGHT
BEGIN:STANDARD
TZOFFSETFROM:-0700
TZOFFSETTO:-0800
TZNAME:PST
DTSTART:20241103T090000
END:STANDARD
BEGIN:DAYLIGHT
TZOFFSETFROM:-0800
TZOFFSETTO:-0700
TZNAME:PDT
DTSTART:20250309T100000
END:DAYLIGHT
BEGIN:STANDARD
TZOFFSETFROM:-0700
TZOFFSETTO:-0800
TZNAME:PST
DTSTART:20251102T090000
END:STANDARD
END:VTIMEZONE
BEGIN:VEVENT
DTSTART;TZID=America/Los_Angeles:20241206T120000
DTEND;TZID=America/Los_Angeles:20241206T170000
DTSTAMP:20260425T202457
CREATED:20241124T183012Z
LAST-MODIFIED:20241124T183351Z
UID:927-1733486400-1733504400@sewtheresac.com
SUMMARY:Projects Unlimited\, 12/6/24
DESCRIPTION:CLASS DESCRIPTIONWant to create? Stuck on your current project? Need a little advice or encouragement? I can help! Bring your machine(s) and a project of your choice and embark on the road to creative sewing. Work at your own pace and learn tips and techniques to make the most of your sewing time. If sewing a garment\, please bring your pattern in the proper size\, as I do not cover alterations in this class. \nFEES & DETAILS LISTED BELOW \nPAYMENT DUE BEFORE CLASSVenmo: @mselaineous51 OR PayPal: mselaineous51@hotmail.com \nQUESTIONS ABOUT THE CLASSEmail: mselaineous51@hotmail.com
URL:https://sewtheresac.com/event/projects-unlimited-12-6-24/
LOCATION:Meissner’s Folsom\, 98 Clarksville Road\, Suite 130\, Folsom\, CA\, 95630\, United States
ATTACH;FMTTYPE=image/jpeg:https://sewtheresac.com/wp-content/uploads/2024/06/One-Block-4b.jpg
ORGANIZER;CN="Elaine Buchanan":MAILTO:mselaineous51@hotmail.com
END:VEVENT
BEGIN:VEVENT
DTSTART;TZID=America/Los_Angeles:20241211T120000
DTEND;TZID=America/Los_Angeles:20241211T170000
DTSTAMP:20260425T202457
CREATED:20241124T183229Z
LAST-MODIFIED:20241124T183229Z
UID:928-1733918400-1733936400@sewtheresac.com
SUMMARY:Projects Unlimited\, 12/11/24
DESCRIPTION:CLASS DESCRIPTIONWant to create? Stuck on your current project? Need a little advice or encouragement? I can help! Bring your machine(s) and a project of your choice and embark on the road to creative sewing. Work at your own pace and learn tips and techniques to make the most of your sewing time. If sewing a garment\, please bring your pattern in the proper size\, as I do not cover alterations in this class. \nFEES & DETAILS LISTED BELOW \nPAYMENT DUE BEFORE CLASSVenmo: @mselaineous51 OR PayPal: mselaineous51@hotmail.com \nQUESTIONS ABOUT THE CLASSEmail: mselaineous51@hotmail.com
URL:https://sewtheresac.com/event/projects-unlimited-12-11-24/
LOCATION:Meissner’s Folsom\, 98 Clarksville Road\, Suite 130\, Folsom\, CA\, 95630\, United States
ATTACH;FMTTYPE=image/jpeg:https://sewtheresac.com/wp-content/uploads/2024/06/One-Block-3b.jpg
ORGANIZER;CN="Elaine Buchanan":MAILTO:mselaineous51@hotmail.com
END:VEVENT
BEGIN:VEVENT
DTSTART;TZID=America/Los_Angeles:20241220T120000
DTEND;TZID=America/Los_Angeles:20241220T170000
DTSTAMP:20260425T202457
CREATED:20241124T183518Z
LAST-MODIFIED:20241124T183518Z
UID:929-1734696000-1734714000@sewtheresac.com
SUMMARY:Projects Unlimited\, 12/20/24
DESCRIPTION:CLASS DESCRIPTIONWant to create? Stuck on your current project? Need a little advice or encouragement? I can help! Bring your machine(s) and a project of your choice and embark on the road to creative sewing. Work at your own pace and learn tips and techniques to make the most of your sewing time. If sewing a garment\, please bring your pattern in the proper size\, as I do not cover alterations in this class. \nFEES & DETAILS LISTED BELOW \nPAYMENT DUE BEFORE CLASSVenmo: @mselaineous51 OR PayPal: mselaineous51@hotmail.com \nQUESTIONS ABOUT THE CLASSEmail: mselaineous51@hotmail.com
URL:https://sewtheresac.com/event/projects-unlimited-12-20-24/
LOCATION:Meissner’s Folsom\, 98 Clarksville Road\, Suite 130\, Folsom\, CA\, 95630\, United States
ATTACH;FMTTYPE=image/jpeg:https://sewtheresac.com/wp-content/uploads/2024/05/ScrapTherapyQuilt2.jpg
ORGANIZER;CN="Elaine Buchanan":MAILTO:mselaineous51@hotmail.com
END:VEVENT
BEGIN:VEVENT
DTSTART;TZID=America/Los_Angeles:20241228T110000
DTEND;TZID=America/Los_Angeles:20241228T160000
DTSTAMP:20260425T202457
CREATED:20241124T183654Z
LAST-MODIFIED:20241124T183654Z
UID:930-1735383600-1735401600@sewtheresac.com
SUMMARY:Scrap Therapy\, 12/28/24
DESCRIPTION:CLASS DESCRIPTIONPROBLEM: Scraps are taking over your sewing space! Can’t bear to throw away those little left-over pieces? Bags and boxes of random odds and ends stressing you out? Need a way to organize and use them up? \nSOLUTION: Scrap Therapy! Get those rebellious scraps organized and ready for a variety of great projects\, from tote bags to table runners to quilts. This class will provide physical and emotional support for those of us who just can’t bear to throw away even one little piece of those fabulous fabrics we love so much! You’ll feel soooo much better as you see all those scraps turning into something beautiful and useful! (Don’t think you have enough scraps yet to qualify? Not a problem – I have plenty to share!!!) \nFEES & DETAILS LISTED BELOW \nPAYMENT DUE BEFORE CLASSVenmo: @mselaineous51 OR PayPal: mselaineous51@hotmail.com \nQUESTIONS ABOUT THE CLASSEmail: mselaineous51@hotmail.com
URL:https://sewtheresac.com/event/scrap-therapy-12-28-24/
LOCATION:Meissner’s Folsom\, 98 Clarksville Road\, Suite 130\, Folsom\, CA\, 95630\, United States
ATTACH;FMTTYPE=image/jpeg:https://sewtheresac.com/wp-content/uploads/2024/05/ScrapTherapyQuilt2.jpg
ORGANIZER;CN="Elaine Buchanan":MAILTO:mselaineous51@hotmail.com
END:VEVENT
END:VCALENDAR