BEGIN:VCALENDAR
VERSION:2.0
PRODID:-//Sew There Sac - ECPv6.15.20//NONSGML v1.0//EN
CALSCALE:GREGORIAN
METHOD:PUBLISH
X-WR-CALNAME:Sew There Sac
X-ORIGINAL-URL:https://sewtheresac.com
X-WR-CALDESC:Events for Sew There Sac
REFRESH-INTERVAL;VALUE=DURATION:PT1H
X-Robots-Tag:noindex
X-PUBLISHED-TTL:PT1H
BEGIN:VTIMEZONE
TZID:America/Los_Angeles
BEGIN:DAYLIGHT
TZOFFSETFROM:-0800
TZOFFSETTO:-0700
TZNAME:PDT
DTSTART:20250309T100000
END:DAYLIGHT
BEGIN:STANDARD
TZOFFSETFROM:-0700
TZOFFSETTO:-0800
TZNAME:PST
DTSTART:20251102T090000
END:STANDARD
BEGIN:DAYLIGHT
TZOFFSETFROM:-0800
TZOFFSETTO:-0700
TZNAME:PDT
DTSTART:20260308T100000
END:DAYLIGHT
BEGIN:STANDARD
TZOFFSETFROM:-0700
TZOFFSETTO:-0800
TZNAME:PST
DTSTART:20261101T090000
END:STANDARD
BEGIN:DAYLIGHT
TZOFFSETFROM:-0800
TZOFFSETTO:-0700
TZNAME:PDT
DTSTART:20270314T100000
END:DAYLIGHT
BEGIN:STANDARD
TZOFFSETFROM:-0700
TZOFFSETTO:-0800
TZNAME:PST
DTSTART:20271107T090000
END:STANDARD
END:VTIMEZONE
BEGIN:VEVENT
DTSTART;TZID=America/Los_Angeles:20260425T123000
DTEND;TZID=America/Los_Angeles:20260425T170000
DTSTAMP:20260425T054038
CREATED:20260212T183330Z
LAST-MODIFIED:20260212T183330Z
UID:1333-1777120200-1777136400@sewtheresac.com
SUMMARY:Sit and Sew On! 4/25/26 (Fair Oaks Location)
DESCRIPTION:CLASS DESCRIPTIONSit and Sew On is a great way to have fun while completing your projects. Without all the distractions found at home\, you’ll be so surprised at just how much you’ll achieve. Bring your UFO’s (unfinished objects) or projects you have been struggling to complete. Don’t know just how to get started on your next idea? You’ll receive guided instruction and clarification to get you started on a solid foundation. Spend the day with other inspiring sewists\, make new friends\, get expert advice\, and SEW ON! \nFEES & DETAILS LISTED BELOW \nPAYMENT DUE BEFORE CLASSPaypal: SewItsaGo@yahoo.comVenmo: @ellen-schmidt-28 \nQUESTIONS ABOUT THE CLASSSewItsaGo@yahoo.com
URL:https://sewtheresac.com/event/sit-and-sew-on-04-25-26-fair-oaks-location/
LOCATION:Raley’s Fair Oaks\, 4840 San Juan Avenue\, Fair Oaks\, CA\, 95628
ATTACH;FMTTYPE=image/jpeg:https://sewtheresac.com/wp-content/uploads/2024/05/Sit-Sew-scaled.jpg
ORGANIZER;CN="Ellen Schmidt":MAILTO:SewItsaGo@yahoo.com
END:VEVENT
BEGIN:VEVENT
DTSTART;TZID=America/Los_Angeles:20260429T103000
DTEND;TZID=America/Los_Angeles:20260429T153000
DTSTAMP:20260425T054038
CREATED:20250519T180421Z
LAST-MODIFIED:20260324T204759Z
UID:1138-1777458600-1777476600@sewtheresac.com
SUMMARY:Make A Modern Kimono\, 4/29/26 (class 2 of 2)
DESCRIPTION:CLASS DESCRIPTIONPut a modern twist on the kimono. You’ll learn to create double-sided seams using an ancient Korean textile art form that is both beautiful and utilitarian known as pojagi. Truly express your individuality by using your most treasured scraps. You’ll love all the compliments you receive when wearing this one-of-a-kind treasure!Session 1: Determine pattern size and create pojagi slabSession 2: Cutting and sewing including darts\, sleeves\, etc.Students need to be comfortable using their sewing machine.Note: Not all students will finish the kimono in 2 sessions.For students wanting further guidance beyond the class time\, be sure to sign up for the Sit and Sew On…..! \nFEES & DETAILS LISTED BELOW \nPAYMENT DUE BEFORE CLASSPaypal: SewItsaGo@yahoo.comVenmo: @ellen-schmidt-28 \nREGISTER FOR THE CLASSSewItsaGo@yahoo.com
URL:https://sewtheresac.com/event/make-a-modern-kimono-4-29-26/
LOCATION:Meissner’s Folsom\, 98 Clarksville Road\, Suite 130\, Folsom\, CA\, 95630\, United States
ATTACH;FMTTYPE=image/jpeg:https://sewtheresac.com/wp-content/uploads/2025/05/KimonoClass.4.8.and4_.29-scaled.jpg
ORGANIZER;CN="Ellen Schmidt":MAILTO:SewItsaGo@yahoo.com
END:VEVENT
BEGIN:VEVENT
DTSTART;TZID=America/Los_Angeles:20260501T103000
DTEND;TZID=America/Los_Angeles:20260501T150000
DTSTAMP:20260425T054038
CREATED:20260212T182459Z
LAST-MODIFIED:20260212T182459Z
UID:1326-1777631400-1777647600@sewtheresac.com
SUMMARY:Sit and Sew On! 5/1/26 (Folsom Location)
DESCRIPTION:CLASS DESCRIPTIONSit and Sew On is a great way to have fun while completing your projects. Without all the distractions found at home\, you’ll be so surprised at just how much you’ll achieve. Bring your UFO’s (unfinished objects) or projects you have been struggling to complete. Don’t know just how to get started on your next idea? You’ll receive guided instruction and clarification to get you started on a solid foundation. Spend the day with other inspiring sewists\, make new friends\, get expert advice\, and SEW ON! \nFEES & DETAILS LISTED BELOW \nPAYMENT DUE BEFORE CLASSPaypal: SewItsaGo@yahoo.comVenmo: @ellen-schmidt-28 \nREGISTER FOR THE CLASSSewItsaGo@yahoo.com
URL:https://sewtheresac.com/event/sit-and-sew-on-5-1-26-folsom-location/
LOCATION:Meissner’s Folsom\, 98 Clarksville Road\, Suite 130\, Folsom\, CA\, 95630\, United States
ATTACH;FMTTYPE=image/jpeg:https://sewtheresac.com/wp-content/uploads/2024/05/Sit-Sew-scaled.jpg
ORGANIZER;CN="Ellen Schmidt":MAILTO:SewItsaGo@yahoo.com
END:VEVENT
BEGIN:VEVENT
DTSTART;TZID=America/Los_Angeles:20260508T103000
DTEND;TZID=America/Los_Angeles:20260508T150000
DTSTAMP:20260425T054038
CREATED:20260212T184259Z
LAST-MODIFIED:20260324T231200Z
UID:1341-1778236200-1778252400@sewtheresac.com
SUMMARY:Fabric Collage Monthly\, 5/8/26
DESCRIPTION:CLASS DESCRIPTION*NEW* Fabric Collage Monthly.The art of fabric collage with Ellen Schmidt.Fabric collage is a versatile and engaging art form that combines the beauty of textiles with creative expression\, offering endless possibilities for artists and crafter’s alike.Who is this class for?• New to fabric collage? Purchase a Laura Heine pattern and kit from her “Whatevers” collection.• Experienced? Join! Bring a collage project of your choice to work on. All forms of fabric collage are welcome.• Questions about this class? Contact Ellen\, email listed below. \nFEES & DETAILS LISTED BELOW \nPAYMENT DUE BEFORE CLASSPaypal: SewItsaGo@yahoo.comVenmo: @ellen-schmidt-28 \nREGISTER FOR THE CLASSSewItsaGo@yahoo.com \nCOSTS$45.00 First Time Students; $25.00 For Returning Students
URL:https://sewtheresac.com/event/fabric-collage-monthly-5-8-26/
LOCATION:Meissner’s Folsom\, 98 Clarksville Road\, Suite 130\, Folsom\, CA\, 95630\, United States
ATTACH;FMTTYPE=image/jpeg:https://sewtheresac.com/wp-content/uploads/2025/10/LargeCactusFabricCollage2.jpg
ORGANIZER;CN="Ellen Schmidt":MAILTO:SewItsaGo@yahoo.com
END:VEVENT
BEGIN:VEVENT
DTSTART;TZID=America/Los_Angeles:20260515T103000
DTEND;TZID=America/Los_Angeles:20260515T150000
DTSTAMP:20260425T054038
CREATED:20260212T183024Z
LAST-MODIFIED:20260212T183024Z
UID:1331-1778841000-1778857200@sewtheresac.com
SUMMARY:Sit and Sew On! 5/15/26 (Folsom Location)
DESCRIPTION:CLASS DESCRIPTIONSit and Sew On is a great way to have fun while completing your projects. Without all the distractions found at home\, you’ll be so surprised at just how much you’ll achieve. Bring your UFO’s (unfinished objects) or projects you have been struggling to complete. Don’t know just how to get started on your next idea? You’ll receive guided instruction and clarification to get you started on a solid foundation. Spend the day with other inspiring sewists\, make new friends\, get expert advice\, and SEW ON! \nFEES & DETAILS LISTED BELOW \nPAYMENT DUE BEFORE CLASSPaypal: SewItsaGo@yahoo.comVenmo: @ellen-schmidt-28 \nREGISTER FOR THE CLASSSewItsaGo@yahoo.com
URL:https://sewtheresac.com/event/sit-and-sew-on-5-15-26-folsom-location/
LOCATION:Meissner’s Folsom\, 98 Clarksville Road\, Suite 130\, Folsom\, CA\, 95630\, United States
ATTACH;FMTTYPE=image/jpeg:https://sewtheresac.com/wp-content/uploads/2024/05/Sit-Sew-scaled.jpg
ORGANIZER;CN="Ellen Schmidt":MAILTO:SewItsaGo@yahoo.com
END:VEVENT
BEGIN:VEVENT
DTSTART;TZID=America/Los_Angeles:20260522T103000
DTEND;TZID=America/Los_Angeles:20260522T133000
DTSTAMP:20260425T054038
CREATED:20260324T232204Z
LAST-MODIFIED:20260324T232204Z
UID:1391-1779445800-1779456600@sewtheresac.com
SUMMARY:Sashiko Mystery Club\, 5/22/26
DESCRIPTION:One simple stitch – a world of possibilities. This unique machine gives the impression of a traditional sashiko hand stitch without all the work! Each month\, we’ll review the basics of the machine and then dive into fun techniques such as flip stitching\, double flip stitching\, attaching beads\, and more. There will be plenty of samples and resources for inspiration. A small kit fee is included in the price of the class. Please bring your sashiko machine\, and all that came with it along with basic sewing notions and extra bobbins. Please contact the teacher\, Ellen Schmidt\, at SewitsaGo@yahoo.com to register.
URL:https://sewtheresac.com/event/sashiko-mystery-club-5-22-26/
LOCATION:Meissner’s Folsom\, 98 Clarksville Road\, Suite 130\, Folsom\, CA\, 95630\, United States
ATTACH;FMTTYPE=image/jpeg:https://sewtheresac.com/wp-content/uploads/2024/05/Sashiko-Club.jpg
ORGANIZER;CN="Ellen Schmidt":MAILTO:SewItsaGo@yahoo.com
END:VEVENT
BEGIN:VEVENT
DTSTART;TZID=America/Los_Angeles:20260523T123000
DTEND;TZID=America/Los_Angeles:20260523T170000
DTSTAMP:20260425T054038
CREATED:20260212T183625Z
LAST-MODIFIED:20260212T183625Z
UID:1335-1779539400-1779555600@sewtheresac.com
SUMMARY:Sit and Sew On! 5/23/26 (Fair Oaks Location)
DESCRIPTION:CLASS DESCRIPTIONSit and Sew On is a great way to have fun while completing your projects. Without all the distractions found at home\, you’ll be so surprised at just how much you’ll achieve. Bring your UFO’s (unfinished objects) or projects you have been struggling to complete. Don’t know just how to get started on your next idea? You’ll receive guided instruction and clarification to get you started on a solid foundation. Spend the day with other inspiring sewists\, make new friends\, get expert advice\, and SEW ON! \nFEES & DETAILS LISTED BELOW \nPAYMENT DUE BEFORE CLASSPaypal: SewItsaGo@yahoo.comVenmo: @ellen-schmidt-28 \nQUESTIONS ABOUT THE CLASSSewItsaGo@yahoo.com
URL:https://sewtheresac.com/event/sit-and-sew-on-5-23-26-fair-oaks-location/
LOCATION:Raley’s Fair Oaks\, 4840 San Juan Avenue\, Fair Oaks\, CA\, 95628
ATTACH;FMTTYPE=image/jpeg:https://sewtheresac.com/wp-content/uploads/2024/05/Sit-Sew-scaled.jpg
ORGANIZER;CN="Ellen Schmidt":MAILTO:SewItsaGo@yahoo.com
END:VEVENT
BEGIN:VEVENT
DTSTART;TZID=America/Los_Angeles:20260612T103000
DTEND;TZID=America/Los_Angeles:20260612T150000
DTSTAMP:20260425T054038
CREATED:20260324T230529Z
LAST-MODIFIED:20260324T231118Z
UID:1401-1781260200-1781276400@sewtheresac.com
SUMMARY:Fabric Collage Monthly\, 6/12/26
DESCRIPTION:CLASS DESCRIPTION*NEW* Fabric Collage Monthly.The art of fabric collage with Ellen Schmidt.Fabric collage is a versatile and engaging art form that combines the beauty of textiles with creative expression\, offering endless possibilities for artists and crafter’s alike.Who is this class for?• New to fabric collage? Purchase a Laura Heine pattern and kit from her “Whatevers” collection.• Experienced? Join! Bring a collage project of your choice to work on. All forms of fabric collage are welcome.• Questions about this class? Contact Ellen\, email listed below. \nFEES & DETAILS LISTED BELOW \nPAYMENT DUE BEFORE CLASSPaypal: SewItsaGo@yahoo.comVenmo: @ellen-schmidt-28 \nREGISTER FOR THE CLASSSewItsaGo@yahoo.com \nCOSTS$45.00 First Time Students; $25.00 For Returning Students
URL:https://sewtheresac.com/event/fabric-collage-monthly-6-12-26/
LOCATION:Meissner’s Folsom\, 98 Clarksville Road\, Suite 130\, Folsom\, CA\, 95630\, United States
ATTACH;FMTTYPE=image/jpeg:https://sewtheresac.com/wp-content/uploads/2025/10/LargeCactusFabricCollage2.jpg
ORGANIZER;CN="Ellen Schmidt":MAILTO:SewItsaGo@yahoo.com
END:VEVENT
BEGIN:VEVENT
DTSTART;TZID=America/Los_Angeles:20260626T103000
DTEND;TZID=America/Los_Angeles:20260626T133000
DTSTAMP:20260425T054038
CREATED:20260324T225305Z
LAST-MODIFIED:20260324T225745Z
UID:1386-1782469800-1782480600@sewtheresac.com
SUMMARY:Sashiko Mystery Club\, 6/26/26
DESCRIPTION:One simple stitch – a world of possibilities. This unique machine gives the impression of a traditional sashiko hand stitch without all the work! Each month\, we’ll review the basics of the machine and then dive into fun techniques such as flip stitching\, double flip stitching\, attaching beads\, and more. There will be plenty of samples and resources for inspiration. A small kit fee is included in the price of the class. Please bring your sashiko machine\, and all that came with it along with basic sewing notions and extra bobbins. Please contact the teacher\, Ellen Schmidt\, at SewitsaGo@yahoo.com to register.
URL:https://sewtheresac.com/event/sashiko-mystery-club-6-26-26/
LOCATION:Meissner’s Folsom\, 98 Clarksville Road\, Suite 130\, Folsom\, CA\, 95630\, United States
ATTACH;FMTTYPE=image/jpeg:https://sewtheresac.com/wp-content/uploads/2024/05/Sashiko-Club.jpg
ORGANIZER;CN="Ellen Schmidt":MAILTO:SewItsaGo@yahoo.com
END:VEVENT
BEGIN:VEVENT
DTSTART;TZID=America/Los_Angeles:20260703T103000
DTEND;TZID=America/Los_Angeles:20260703T150000
DTSTAMP:20260425T054038
CREATED:20260324T230756Z
LAST-MODIFIED:20260324T231008Z
UID:1403-1783074600-1783090800@sewtheresac.com
SUMMARY:Fabric Collage Monthly\, 7/3/26
DESCRIPTION:CLASS DESCRIPTION*NEW* Fabric Collage Monthly.The art of fabric collage with Ellen Schmidt.Fabric collage is a versatile and engaging art form that combines the beauty of textiles with creative expression\, offering endless possibilities for artists and crafter’s alike.Who is this class for?• New to fabric collage? Purchase a Laura Heine pattern and kit from her “Whatevers” collection.• Experienced? Join! Bring a collage project of your choice to work on. All forms of fabric collage are welcome.• Questions about this class? Contact Ellen\, email listed below. \nFEES & DETAILS LISTED BELOW \nPAYMENT DUE BEFORE CLASSPaypal: SewItsaGo@yahoo.comVenmo: @ellen-schmidt-28 \nREGISTER FOR THE CLASSSewItsaGo@yahoo.com \nCOSTS$45.00 First Time Students; $25.00 For Returning Students
URL:https://sewtheresac.com/event/fabric-collage-monthly-6-3-26/
LOCATION:Meissner’s Folsom\, 98 Clarksville Road\, Suite 130\, Folsom\, CA\, 95630\, United States
ATTACH;FMTTYPE=image/jpeg:https://sewtheresac.com/wp-content/uploads/2025/10/LargeCactusFabricCollage2.jpg
ORGANIZER;CN="Ellen Schmidt":MAILTO:SewItsaGo@yahoo.com
END:VEVENT
BEGIN:VEVENT
DTSTART;TZID=America/Los_Angeles:20260703T103000
DTEND;TZID=America/Los_Angeles:20260703T150000
DTSTAMP:20260425T054038
CREATED:20260324T231046Z
LAST-MODIFIED:20260324T231046Z
UID:1406-1783074600-1783090800@sewtheresac.com
SUMMARY:Fabric Collage Monthly\, 7/3/26
DESCRIPTION:CLASS DESCRIPTION*NEW* Fabric Collage Monthly.The art of fabric collage with Ellen Schmidt.Fabric collage is a versatile and engaging art form that combines the beauty of textiles with creative expression\, offering endless possibilities for artists and crafter’s alike.Who is this class for?• New to fabric collage? Purchase a Laura Heine pattern and kit from her “Whatevers” collection.• Experienced? Join! Bring a collage project of your choice to work on. All forms of fabric collage are welcome.• Questions about this class? Contact Ellen\, email listed below. \nFEES & DETAILS LISTED BELOW \nPAYMENT DUE BEFORE CLASSPaypal: SewItsaGo@yahoo.comVenmo: @ellen-schmidt-28 \nREGISTER FOR THE CLASSSewItsaGo@yahoo.com \nCOSTS$45.00 First Time Students; $25.00 For Returning Students
URL:https://sewtheresac.com/event/fabric-collage-monthly-7-3-26/
LOCATION:Meissner’s Folsom\, 98 Clarksville Road\, Suite 130\, Folsom\, CA\, 95630\, United States
ATTACH;FMTTYPE=image/jpeg:https://sewtheresac.com/wp-content/uploads/2025/10/LargeCactusFabricCollage2.jpg
ORGANIZER;CN="Ellen Schmidt":MAILTO:SewItsaGo@yahoo.com
END:VEVENT
BEGIN:VEVENT
DTSTART;TZID=America/Los_Angeles:20260724T103000
DTEND;TZID=America/Los_Angeles:20260724T133000
DTSTAMP:20260425T054038
CREATED:20260324T225904Z
LAST-MODIFIED:20260324T225904Z
UID:1393-1784889000-1784899800@sewtheresac.com
SUMMARY:Sashiko Mystery Club\, 7/24/26
DESCRIPTION:One simple stitch – a world of possibilities. This unique machine gives the impression of a traditional sashiko hand stitch without all the work! Each month\, we’ll review the basics of the machine and then dive into fun techniques such as flip stitching\, double flip stitching\, attaching beads\, and more. There will be plenty of samples and resources for inspiration. A small kit fee is included in the price of the class. Please bring your sashiko machine\, and all that came with it along with basic sewing notions and extra bobbins. Please contact the teacher\, Ellen Schmidt\, at SewitsaGo@yahoo.com to register.
URL:https://sewtheresac.com/event/sashiko-mystery-club-7-24-26/
LOCATION:Meissner’s Folsom\, 98 Clarksville Road\, Suite 130\, Folsom\, CA\, 95630\, United States
ATTACH;FMTTYPE=image/jpeg:https://sewtheresac.com/wp-content/uploads/2024/05/Sashiko-Club.jpg
ORGANIZER;CN="Ellen Schmidt":MAILTO:SewItsaGo@yahoo.com
END:VEVENT
BEGIN:VEVENT
DTSTART;TZID=America/Los_Angeles:20260814T103000
DTEND;TZID=America/Los_Angeles:20260814T133000
DTSTAMP:20260425T054038
CREATED:20260324T230017Z
LAST-MODIFIED:20260324T230017Z
UID:1395-1786703400-1786714200@sewtheresac.com
SUMMARY:Sashiko Mystery Club\, 8/14/26
DESCRIPTION:One simple stitch – a world of possibilities. This unique machine gives the impression of a traditional sashiko hand stitch without all the work! Each month\, we’ll review the basics of the machine and then dive into fun techniques such as flip stitching\, double flip stitching\, attaching beads\, and more. There will be plenty of samples and resources for inspiration. A small kit fee is included in the price of the class. Please bring your sashiko machine\, and all that came with it along with basic sewing notions and extra bobbins. Please contact the teacher\, Ellen Schmidt\, at SewitsaGo@yahoo.com to register.
URL:https://sewtheresac.com/event/sashiko-mystery-club-8-14-26/
LOCATION:Meissner’s Folsom\, 98 Clarksville Road\, Suite 130\, Folsom\, CA\, 95630\, United States
ATTACH;FMTTYPE=image/jpeg:https://sewtheresac.com/wp-content/uploads/2024/05/Sashiko-Club.jpg
ORGANIZER;CN="Ellen Schmidt":MAILTO:SewItsaGo@yahoo.com
END:VEVENT
BEGIN:VEVENT
DTSTART;TZID=America/Los_Angeles:20260814T103000
DTEND;TZID=America/Los_Angeles:20260814T150000
DTSTAMP:20260425T054038
CREATED:20260324T230936Z
LAST-MODIFIED:20260324T230936Z
UID:1405-1786703400-1786719600@sewtheresac.com
SUMMARY:Fabric Collage Monthly\, 8/14/26
DESCRIPTION:CLASS DESCRIPTION*NEW* Fabric Collage Monthly.The art of fabric collage with Ellen Schmidt.Fabric collage is a versatile and engaging art form that combines the beauty of textiles with creative expression\, offering endless possibilities for artists and crafter’s alike.Who is this class for?• New to fabric collage? Purchase a Laura Heine pattern and kit from her “Whatevers” collection.• Experienced? Join! Bring a collage project of your choice to work on. All forms of fabric collage are welcome.• Questions about this class? Contact Ellen\, email listed below. \nFEES & DETAILS LISTED BELOW \nPAYMENT DUE BEFORE CLASSPaypal: SewItsaGo@yahoo.comVenmo: @ellen-schmidt-28 \nREGISTER FOR THE CLASSSewItsaGo@yahoo.com \nCOSTS$45.00 First Time Students; $25.00 For Returning Students
URL:https://sewtheresac.com/event/fabric-collage-monthly-8-14-26/
LOCATION:Meissner’s Folsom\, 98 Clarksville Road\, Suite 130\, Folsom\, CA\, 95630\, United States
ATTACH;FMTTYPE=image/jpeg:https://sewtheresac.com/wp-content/uploads/2025/10/LargeCactusFabricCollage2.jpg
ORGANIZER;CN="Ellen Schmidt":MAILTO:SewItsaGo@yahoo.com
END:VEVENT
BEGIN:VEVENT
DTSTART;TZID=America/Los_Angeles:20260911T103000
DTEND;TZID=America/Los_Angeles:20260911T150000
DTSTAMP:20260425T054038
CREATED:20260324T231454Z
LAST-MODIFIED:20260324T231454Z
UID:1413-1789122600-1789138800@sewtheresac.com
SUMMARY:Fabric Collage Monthly\, 9/11/26
DESCRIPTION:CLASS DESCRIPTION*NEW* Fabric Collage Monthly.The art of fabric collage with Ellen Schmidt.Fabric collage is a versatile and engaging art form that combines the beauty of textiles with creative expression\, offering endless possibilities for artists and crafter’s alike.Who is this class for?• New to fabric collage? Purchase a Laura Heine pattern and kit from her “Whatevers” collection.• Experienced? Join! Bring a collage project of your choice to work on. All forms of fabric collage are welcome.• Questions about this class? Contact Ellen\, email listed below. \nFEES & DETAILS LISTED BELOW \nPAYMENT DUE BEFORE CLASSPaypal: SewItsaGo@yahoo.comVenmo: @ellen-schmidt-28 \nREGISTER FOR THE CLASSSewItsaGo@yahoo.com \nCOSTS$45.00 First Time Students; $25.00 For Returning Students
URL:https://sewtheresac.com/event/fabric-collage-monthly-9-11-26/
LOCATION:Meissner’s Folsom\, 98 Clarksville Road\, Suite 130\, Folsom\, CA\, 95630\, United States
ATTACH;FMTTYPE=image/jpeg:https://sewtheresac.com/wp-content/uploads/2025/10/LargeCactusFabricCollage2.jpg
ORGANIZER;CN="Ellen Schmidt":MAILTO:SewItsaGo@yahoo.com
END:VEVENT
BEGIN:VEVENT
DTSTART;TZID=America/Los_Angeles:20260925T103000
DTEND;TZID=America/Los_Angeles:20260925T133000
DTSTAMP:20260425T054038
CREATED:20260324T230120Z
LAST-MODIFIED:20260324T230120Z
UID:1397-1790332200-1790343000@sewtheresac.com
SUMMARY:Sashiko Mystery Club\, 9/25/26
DESCRIPTION:One simple stitch – a world of possibilities. This unique machine gives the impression of a traditional sashiko hand stitch without all the work! Each month\, we’ll review the basics of the machine and then dive into fun techniques such as flip stitching\, double flip stitching\, attaching beads\, and more. There will be plenty of samples and resources for inspiration. A small kit fee is included in the price of the class. Please bring your sashiko machine\, and all that came with it along with basic sewing notions and extra bobbins. Please contact the teacher\, Ellen Schmidt\, at SewitsaGo@yahoo.com to register.
URL:https://sewtheresac.com/event/sashiko-mystery-club-9-25-26/
LOCATION:Meissner’s Folsom\, 98 Clarksville Road\, Suite 130\, Folsom\, CA\, 95630\, United States
ATTACH;FMTTYPE=image/jpeg:https://sewtheresac.com/wp-content/uploads/2024/05/Sashiko-Club.jpg
ORGANIZER;CN="Ellen Schmidt":MAILTO:SewItsaGo@yahoo.com
END:VEVENT
BEGIN:VEVENT
DTSTART;TZID=America/Los_Angeles:20261009T103000
DTEND;TZID=America/Los_Angeles:20261009T150000
DTSTAMP:20260425T054038
CREATED:20260324T231623Z
LAST-MODIFIED:20260324T231623Z
UID:1415-1791541800-1791558000@sewtheresac.com
SUMMARY:Fabric Collage Monthly\, 10/9/26
DESCRIPTION:CLASS DESCRIPTION*NEW* Fabric Collage Monthly.The art of fabric collage with Ellen Schmidt.Fabric collage is a versatile and engaging art form that combines the beauty of textiles with creative expression\, offering endless possibilities for artists and crafter’s alike.Who is this class for?• New to fabric collage? Purchase a Laura Heine pattern and kit from her “Whatevers” collection.• Experienced? Join! Bring a collage project of your choice to work on. All forms of fabric collage are welcome.• Questions about this class? Contact Ellen\, email listed below. \nFEES & DETAILS LISTED BELOW \nPAYMENT DUE BEFORE CLASSPaypal: SewItsaGo@yahoo.comVenmo: @ellen-schmidt-28 \nREGISTER FOR THE CLASSSewItsaGo@yahoo.com \nCOSTS$45.00 First Time Students; $25.00 For Returning Students
URL:https://sewtheresac.com/event/fabric-collage-monthly-10-9-26/
LOCATION:Meissner’s Folsom\, 98 Clarksville Road\, Suite 130\, Folsom\, CA\, 95630\, United States
ATTACH;FMTTYPE=image/jpeg:https://sewtheresac.com/wp-content/uploads/2025/10/LargeCactusFabricCollage2.jpg
ORGANIZER;CN="Ellen Schmidt":MAILTO:SewItsaGo@yahoo.com
END:VEVENT
BEGIN:VEVENT
DTSTART;TZID=America/Los_Angeles:20261023T103000
DTEND;TZID=America/Los_Angeles:20261023T133000
DTSTAMP:20260425T054038
CREATED:20260324T230227Z
LAST-MODIFIED:20260324T230326Z
UID:1399-1792751400-1792762200@sewtheresac.com
SUMMARY:Sashiko Mystery Club\, 10/23/26
DESCRIPTION:One simple stitch – a world of possibilities. This unique machine gives the impression of a traditional sashiko hand stitch without all the work! Each month\, we’ll review the basics of the machine and then dive into fun techniques such as flip stitching\, double flip stitching\, attaching beads\, and more. There will be plenty of samples and resources for inspiration. A small kit fee is included in the price of the class. Please bring your sashiko machine\, and all that came with it along with basic sewing notions and extra bobbins. Please contact the teacher\, Ellen Schmidt\, at SewitsaGo@yahoo.com to register.
URL:https://sewtheresac.com/event/sashiko-mystery-club-10-23-26/
LOCATION:Meissner’s Folsom\, 98 Clarksville Road\, Suite 130\, Folsom\, CA\, 95630\, United States
ATTACH;FMTTYPE=image/jpeg:https://sewtheresac.com/wp-content/uploads/2024/05/Sashiko-Club.jpg
ORGANIZER;CN="Ellen Schmidt":MAILTO:SewItsaGo@yahoo.com
END:VEVENT
BEGIN:VEVENT
DTSTART;TZID=America/Los_Angeles:20261113T103000
DTEND;TZID=America/Los_Angeles:20261113T150000
DTSTAMP:20260425T054038
CREATED:20260324T231725Z
LAST-MODIFIED:20260324T231725Z
UID:1417-1794565800-1794582000@sewtheresac.com
SUMMARY:Fabric Collage Monthly\, 11/13/26
DESCRIPTION:CLASS DESCRIPTION*NEW* Fabric Collage Monthly.The art of fabric collage with Ellen Schmidt.Fabric collage is a versatile and engaging art form that combines the beauty of textiles with creative expression\, offering endless possibilities for artists and crafter’s alike.Who is this class for?• New to fabric collage? Purchase a Laura Heine pattern and kit from her “Whatevers” collection.• Experienced? Join! Bring a collage project of your choice to work on. All forms of fabric collage are welcome.• Questions about this class? Contact Ellen\, email listed below. \nFEES & DETAILS LISTED BELOW \nPAYMENT DUE BEFORE CLASSPaypal: SewItsaGo@yahoo.comVenmo: @ellen-schmidt-28 \nREGISTER FOR THE CLASSSewItsaGo@yahoo.com \nCOSTS$45.00 First Time Students; $25.00 For Returning Students
URL:https://sewtheresac.com/event/fabric-collage-monthly-11-13-26/
LOCATION:Meissner’s Folsom\, 98 Clarksville Road\, Suite 130\, Folsom\, CA\, 95630\, United States
ATTACH;FMTTYPE=image/jpeg:https://sewtheresac.com/wp-content/uploads/2025/10/LargeCactusFabricCollage2.jpg
ORGANIZER;CN="Ellen Schmidt":MAILTO:SewItsaGo@yahoo.com
END:VEVENT
BEGIN:VEVENT
DTSTART;TZID=America/Los_Angeles:20261211T103000
DTEND;TZID=America/Los_Angeles:20261211T150000
DTSTAMP:20260425T054038
CREATED:20260324T231833Z
LAST-MODIFIED:20260324T231833Z
UID:1419-1796985000-1797001200@sewtheresac.com
SUMMARY:Fabric Collage Monthly\, 12/11/26
DESCRIPTION:CLASS DESCRIPTION*NEW* Fabric Collage Monthly.The art of fabric collage with Ellen Schmidt.Fabric collage is a versatile and engaging art form that combines the beauty of textiles with creative expression\, offering endless possibilities for artists and crafter’s alike.Who is this class for?• New to fabric collage? Purchase a Laura Heine pattern and kit from her “Whatevers” collection.• Experienced? Join! Bring a collage project of your choice to work on. All forms of fabric collage are welcome.• Questions about this class? Contact Ellen\, email listed below. \nFEES & DETAILS LISTED BELOW \nPAYMENT DUE BEFORE CLASSPaypal: SewItsaGo@yahoo.comVenmo: @ellen-schmidt-28 \nREGISTER FOR THE CLASSSewItsaGo@yahoo.com \nCOSTS$45.00 First Time Students; $25.00 For Returning Students
URL:https://sewtheresac.com/event/fabric-collage-monthly-12-11-26/
LOCATION:Meissner’s Folsom\, 98 Clarksville Road\, Suite 130\, Folsom\, CA\, 95630\, United States
ATTACH;FMTTYPE=image/jpeg:https://sewtheresac.com/wp-content/uploads/2025/10/LargeCactusFabricCollage2.jpg
ORGANIZER;CN="Ellen Schmidt":MAILTO:SewItsaGo@yahoo.com
END:VEVENT
END:VCALENDAR