BEGIN:VCALENDAR
VERSION:2.0
PRODID:-//Sew There Sac - ECPv6.15.20//NONSGML v1.0//EN
CALSCALE:GREGORIAN
METHOD:PUBLISH
X-ORIGINAL-URL:https://sewtheresac.com
X-WR-CALDESC:Events for Sew There Sac
REFRESH-INTERVAL;VALUE=DURATION:PT1H
X-Robots-Tag:noindex
X-PUBLISHED-TTL:PT1H
BEGIN:VTIMEZONE
TZID:America/Los_Angeles
BEGIN:DAYLIGHT
TZOFFSETFROM:-0800
TZOFFSETTO:-0700
TZNAME:PDT
DTSTART:20250309T100000
END:DAYLIGHT
BEGIN:STANDARD
TZOFFSETFROM:-0700
TZOFFSETTO:-0800
TZNAME:PST
DTSTART:20251102T090000
END:STANDARD
BEGIN:DAYLIGHT
TZOFFSETFROM:-0800
TZOFFSETTO:-0700
TZNAME:PDT
DTSTART:20260308T100000
END:DAYLIGHT
BEGIN:STANDARD
TZOFFSETFROM:-0700
TZOFFSETTO:-0800
TZNAME:PST
DTSTART:20261101T090000
END:STANDARD
BEGIN:DAYLIGHT
TZOFFSETFROM:-0800
TZOFFSETTO:-0700
TZNAME:PDT
DTSTART:20270314T100000
END:DAYLIGHT
BEGIN:STANDARD
TZOFFSETFROM:-0700
TZOFFSETTO:-0800
TZNAME:PST
DTSTART:20271107T090000
END:STANDARD
END:VTIMEZONE
BEGIN:VEVENT
DTSTART;TZID=America/Los_Angeles:20260408T103000
DTEND;TZID=America/Los_Angeles:20260408T153000
DTSTAMP:20260424T170249
CREATED:20260324T203414Z
LAST-MODIFIED:20260324T204522Z
UID:1372-1775644200-1775662200@sewtheresac.com
SUMMARY:Make A Modern Kimono\, 4/8/26 (class 1 of 2)
DESCRIPTION:CLASS DESCRIPTIONPut a modern twist on the kimono. You’ll learn to create double-sided seams using an ancient Korean textile art form that is both beautiful and utilitarian known as pojagi. Truly express your individuality by using your most treasured scraps. You’ll love all the compliments you receive when wearing this one-of-a-kind treasure!Session 1: Determine pattern size and create pojagi slabSession 2: Cutting and sewing including darts\, sleeves\, etc.Students need to be comfortable using their sewing machine.Note: Not all students will finish the kimono in 2 sessions.For students wanting further guidance beyond the class time\, be sure to sign up for the Sit and Sew On…..! \nFEES & DETAILS LISTED BELOW \nPAYMENT DUE BEFORE CLASSPaypal: SewItsaGo@yahoo.comVenmo: @ellen-schmidt-28 \nREGISTER FOR THE CLASSSewItsaGo@yahoo.com
URL:https://sewtheresac.com/event/make-a-modern-kimono-4-8-26/
LOCATION:Meissner’s Folsom\, 98 Clarksville Road\, Suite 130\, Folsom\, CA\, 95630\, United States
ATTACH;FMTTYPE=image/jpeg:https://sewtheresac.com/wp-content/uploads/2025/05/2KimonoClass.4.8.and4_.29-scaled.jpg
ORGANIZER;CN="Ellen Schmidt":MAILTO:SewItsaGo@yahoo.com
END:VEVENT
END:VCALENDAR