BEGIN:VCALENDAR
VERSION:2.0
PRODID:-//Sew There Sac - ECPv6.15.20//NONSGML v1.0//EN
CALSCALE:GREGORIAN
METHOD:PUBLISH
X-WR-CALNAME:Sew There Sac
X-ORIGINAL-URL:https://sewtheresac.com
X-WR-CALDESC:Events for Sew There Sac
REFRESH-INTERVAL;VALUE=DURATION:PT1H
X-Robots-Tag:noindex
X-PUBLISHED-TTL:PT1H
BEGIN:VTIMEZONE
TZID:America/Los_Angeles
BEGIN:DAYLIGHT
TZOFFSETFROM:-0800
TZOFFSETTO:-0700
TZNAME:PDT
DTSTART:20240310T100000
END:DAYLIGHT
BEGIN:STANDARD
TZOFFSETFROM:-0700
TZOFFSETTO:-0800
TZNAME:PST
DTSTART:20241103T090000
END:STANDARD
BEGIN:DAYLIGHT
TZOFFSETFROM:-0800
TZOFFSETTO:-0700
TZNAME:PDT
DTSTART:20250309T100000
END:DAYLIGHT
BEGIN:STANDARD
TZOFFSETFROM:-0700
TZOFFSETTO:-0800
TZNAME:PST
DTSTART:20251102T090000
END:STANDARD
BEGIN:DAYLIGHT
TZOFFSETFROM:-0800
TZOFFSETTO:-0700
TZNAME:PDT
DTSTART:20260308T100000
END:DAYLIGHT
BEGIN:STANDARD
TZOFFSETFROM:-0700
TZOFFSETTO:-0800
TZNAME:PST
DTSTART:20261101T090000
END:STANDARD
END:VTIMEZONE
BEGIN:VEVENT
DTSTART;TZID=America/Los_Angeles:20250822T103000
DTEND;TZID=America/Los_Angeles:20250822T133000
DTSTAMP:20260425T070438
CREATED:20250708T214039Z
LAST-MODIFIED:20250708T214039Z
UID:1171-1755858600-1755869400@sewtheresac.com
SUMMARY:Sashiko Mystery Club\, 8/22/25
DESCRIPTION:One simple stitch – a world of possibilities. This unique machine gives the impression of a traditional sashiko hand stitch without all the work! Each month\, we’ll review the basics of the machine and then dive into fun techniques such as flip stitching\, double flip stitching\, attaching beads\, and more. There will be plenty of samples and resources for inspiration. A small kit fee is included in the price of the class. Please bring your sashiko machine\, and all that came with it along with basic sewing notions and extra bobbins. Please contact the teacher\, Ellen Schmidt\, at SewitsaGo@yahoo.com to register.
URL:https://sewtheresac.com/event/sashiko-mystery-club-8-22-25/
LOCATION:Meissner’s Folsom\, 98 Clarksville Road\, Suite 130\, Folsom\, CA\, 95630\, United States
ATTACH;FMTTYPE=image/jpeg:https://sewtheresac.com/wp-content/uploads/2024/05/Sashiko-Club.jpg
ORGANIZER;CN="Ellen Schmidt":MAILTO:SewItsaGo@yahoo.com
END:VEVENT
END:VCALENDAR