BEGIN:VCALENDAR
VERSION:2.0
PRODID:-//Sew There Sac - ECPv6.15.20//NONSGML v1.0//EN
CALSCALE:GREGORIAN
METHOD:PUBLISH
X-ORIGINAL-URL:https://sewtheresac.com
X-WR-CALDESC:Events for Sew There Sac
REFRESH-INTERVAL;VALUE=DURATION:PT1H
X-Robots-Tag:noindex
X-PUBLISHED-TTL:PT1H
BEGIN:VTIMEZONE
TZID:America/Los_Angeles
BEGIN:DAYLIGHT
TZOFFSETFROM:-0800
TZOFFSETTO:-0700
TZNAME:PDT
DTSTART:20240310T100000
END:DAYLIGHT
BEGIN:STANDARD
TZOFFSETFROM:-0700
TZOFFSETTO:-0800
TZNAME:PST
DTSTART:20241103T090000
END:STANDARD
BEGIN:DAYLIGHT
TZOFFSETFROM:-0800
TZOFFSETTO:-0700
TZNAME:PDT
DTSTART:20250309T100000
END:DAYLIGHT
BEGIN:STANDARD
TZOFFSETFROM:-0700
TZOFFSETTO:-0800
TZNAME:PST
DTSTART:20251102T090000
END:STANDARD
BEGIN:DAYLIGHT
TZOFFSETFROM:-0800
TZOFFSETTO:-0700
TZNAME:PDT
DTSTART:20260308T100000
END:DAYLIGHT
BEGIN:STANDARD
TZOFFSETFROM:-0700
TZOFFSETTO:-0800
TZNAME:PST
DTSTART:20261101T090000
END:STANDARD
END:VTIMEZONE
BEGIN:VEVENT
DTSTART;TZID=America/Los_Angeles:20250624T103000
DTEND;TZID=America/Los_Angeles:20250624T163000
DTSTAMP:20260425T103343
CREATED:20250519T174539Z
LAST-MODIFIED:20250519T174539Z
UID:1132-1750761000-1750782600@sewtheresac.com
SUMMARY:Sew Simple Bargello Quilt\, 6/24/25
DESCRIPTION:CLASS DESCRIPTIONIt’s hard to believe\, but there are only TWO fabrics in this stunning quilt! Select a focus fabric and a gradient or ombre fabric. They can either contrast or blend with each other. Learn a Soooo simple strip piecing technique and it will look like you spent hours selecting fabrics. \nFEES & DETAILS LISTED BELOW \nPAYMENT DUE BEFORE CLASSPaypal: SewItsaGo@yahoo.comVenmo: @ellen-schmidt-28 \nREGISTER FOR THE CLASSSewItsaGo@yahoo.com
URL:https://sewtheresac.com/event/sew-simple-bargello-quilt/
LOCATION:Meissner’s Folsom\, 98 Clarksville Road\, Suite 130\, Folsom\, CA\, 95630\, United States
ATTACH;FMTTYPE=image/png:https://sewtheresac.com/wp-content/uploads/2025/05/Screen-Shot-2025-05-19-at-10.39.46-AM.png
ORGANIZER;CN="Ellen Schmidt":MAILTO:SewItsaGo@yahoo.com
END:VEVENT
END:VCALENDAR