BEGIN:VCALENDAR
VERSION:2.0
PRODID:-//Sew There Sac - ECPv6.15.20//NONSGML v1.0//EN
CALSCALE:GREGORIAN
METHOD:PUBLISH
X-ORIGINAL-URL:https://sewtheresac.com
X-WR-CALDESC:Events for Sew There Sac
REFRESH-INTERVAL;VALUE=DURATION:PT1H
X-Robots-Tag:noindex
X-PUBLISHED-TTL:PT1H
BEGIN:VTIMEZONE
TZID:America/Los_Angeles
BEGIN:DAYLIGHT
TZOFFSETFROM:-0800
TZOFFSETTO:-0700
TZNAME:PDT
DTSTART:20240310T100000
END:DAYLIGHT
BEGIN:STANDARD
TZOFFSETFROM:-0700
TZOFFSETTO:-0800
TZNAME:PST
DTSTART:20241103T090000
END:STANDARD
BEGIN:DAYLIGHT
TZOFFSETFROM:-0800
TZOFFSETTO:-0700
TZNAME:PDT
DTSTART:20250309T100000
END:DAYLIGHT
BEGIN:STANDARD
TZOFFSETFROM:-0700
TZOFFSETTO:-0800
TZNAME:PST
DTSTART:20251102T090000
END:STANDARD
BEGIN:DAYLIGHT
TZOFFSETFROM:-0800
TZOFFSETTO:-0700
TZNAME:PDT
DTSTART:20260308T100000
END:DAYLIGHT
BEGIN:STANDARD
TZOFFSETFROM:-0700
TZOFFSETTO:-0800
TZNAME:PST
DTSTART:20261101T090000
END:STANDARD
END:VTIMEZONE
BEGIN:VEVENT
DTSTART;TZID=America/Los_Angeles:20250127T100000
DTEND;TZID=America/Los_Angeles:20250127T130000
DTSTAMP:20260425T183810
CREATED:20241226T232509Z
LAST-MODIFIED:20241226T232944Z
UID:955-1737972000-1737982800@sewtheresac.com
SUMMARY:Adult Basic Sewing\, Session Three\, 1/27/25
DESCRIPTION:CLASS DESCRIPTION:Acquire new skills as you refine those learned in Before You Sit & Sew. You will construct a simple garment as you learn new sewing techniques. This series will include lecture/demonstration and lab time with individual assistance. Before you Sit & Sew is a prerequisite for the absolute beginner. Pattern ideas will be provided for the beginning sewer while the intermediate sewers may select their own projects to construct. Session 3 of 6 of the Adult Basic Sewing series. \nFEES & DETAILS$120 for 6 sessions. \nPAYMENT DUE AT CLASSYOU MUST CALL MARILYN TO SIGN UP FOR THE CLASSCall Marilyn Stanley (916) 851-1753
URL:https://sewtheresac.com/event/adult-basic-sewing-session-three-1-27-25/
LOCATION:Meissner’s Sacramento\, 2417 Cormorant Way\, Sacramento\, CA\, 95815\, United States
ATTACH;FMTTYPE=image/jpeg:https://sewtheresac.com/wp-content/uploads/2024/08/AdultSewingClassesImage.jpg
END:VEVENT
END:VCALENDAR