BEGIN:VCALENDAR
VERSION:2.0
PRODID:-//Sew There Sac - ECPv6.15.20//NONSGML v1.0//EN
CALSCALE:GREGORIAN
METHOD:PUBLISH
X-ORIGINAL-URL:https://sewtheresac.com
X-WR-CALDESC:Events for Sew There Sac
REFRESH-INTERVAL;VALUE=DURATION:PT1H
X-Robots-Tag:noindex
X-PUBLISHED-TTL:PT1H
BEGIN:VTIMEZONE
TZID:America/Los_Angeles
BEGIN:DAYLIGHT
TZOFFSETFROM:-0800
TZOFFSETTO:-0700
TZNAME:PDT
DTSTART:20240310T100000
END:DAYLIGHT
BEGIN:STANDARD
TZOFFSETFROM:-0700
TZOFFSETTO:-0800
TZNAME:PST
DTSTART:20241103T090000
END:STANDARD
BEGIN:DAYLIGHT
TZOFFSETFROM:-0800
TZOFFSETTO:-0700
TZNAME:PDT
DTSTART:20250309T100000
END:DAYLIGHT
BEGIN:STANDARD
TZOFFSETFROM:-0700
TZOFFSETTO:-0800
TZNAME:PST
DTSTART:20251102T090000
END:STANDARD
BEGIN:DAYLIGHT
TZOFFSETFROM:-0800
TZOFFSETTO:-0700
TZNAME:PDT
DTSTART:20260308T100000
END:DAYLIGHT
BEGIN:STANDARD
TZOFFSETFROM:-0700
TZOFFSETTO:-0800
TZNAME:PST
DTSTART:20261101T090000
END:STANDARD
END:VTIMEZONE
BEGIN:VEVENT
DTSTART;TZID=America/Los_Angeles:20250125T110000
DTEND;TZID=America/Los_Angeles:20250125T160000
DTSTAMP:20260425T203705
CREATED:20241226T230251Z
LAST-MODIFIED:20241226T231108Z
UID:943-1737802800-1737820800@sewtheresac.com
SUMMARY:Save the Selvages!\, 1/25/25
DESCRIPTION:CLASS DESCRIPTIONDo you hate to throw away those pretty/cute/clever/colorful selvages? So do I\, and I’ve saved bags and bags of them. Come to this class and help me use them up! For starters we’ll make a fun project from the “Save The Selvages” book – any project you want. Once you see what you can do\, the sky’s the limit! Bring your own selvage strips if you have them. If not\, no worries – I’ve got plenty for everyone! \nFEES & DETAILS LISTED BELOW \nPAYMENT DUE BEFORE CLASSVenmo: @mselaineous51 OR PayPal: mselaineous51@hotmail.com \nQUESTIONS ABOUT THE CLASSEmail: mselaineous51@hotmail.com
URL:https://sewtheresac.com/event/save-the-selvages-1-25-25/
LOCATION:Meissner’s Folsom\, 98 Clarksville Road\, Suite 130\, Folsom\, CA\, 95630\, United States
ATTACH;FMTTYPE=image/jpeg:https://sewtheresac.com/wp-content/uploads/2024/05/Selvages-Pic-4.jpg
ORGANIZER;CN="Elaine Buchanan":MAILTO:mselaineous51@hotmail.com
END:VEVENT
END:VCALENDAR