BEGIN:VCALENDAR
VERSION:2.0
PRODID:-//Sew There Sac - ECPv6.15.20//NONSGML v1.0//EN
CALSCALE:GREGORIAN
METHOD:PUBLISH
X-WR-CALNAME:Sew There Sac
X-ORIGINAL-URL:https://sewtheresac.com
X-WR-CALDESC:Events for Sew There Sac
REFRESH-INTERVAL;VALUE=DURATION:PT1H
X-Robots-Tag:noindex
X-PUBLISHED-TTL:PT1H
BEGIN:VTIMEZONE
TZID:America/Los_Angeles
BEGIN:DAYLIGHT
TZOFFSETFROM:-0800
TZOFFSETTO:-0700
TZNAME:PDT
DTSTART:20240310T100000
END:DAYLIGHT
BEGIN:STANDARD
TZOFFSETFROM:-0700
TZOFFSETTO:-0800
TZNAME:PST
DTSTART:20241103T090000
END:STANDARD
BEGIN:DAYLIGHT
TZOFFSETFROM:-0800
TZOFFSETTO:-0700
TZNAME:PDT
DTSTART:20250309T100000
END:DAYLIGHT
BEGIN:STANDARD
TZOFFSETFROM:-0700
TZOFFSETTO:-0800
TZNAME:PST
DTSTART:20251102T090000
END:STANDARD
BEGIN:DAYLIGHT
TZOFFSETFROM:-0800
TZOFFSETTO:-0700
TZNAME:PDT
DTSTART:20260308T100000
END:DAYLIGHT
BEGIN:STANDARD
TZOFFSETFROM:-0700
TZOFFSETTO:-0800
TZNAME:PST
DTSTART:20261101T090000
END:STANDARD
END:VTIMEZONE
BEGIN:VEVENT
DTSTART;TZID=America/Los_Angeles:20250122T120000
DTEND;TZID=America/Los_Angeles:20250122T170000
DTSTAMP:20260425T213624
CREATED:20241226T225852Z
LAST-MODIFIED:20241226T225852Z
UID:942-1737547200-1737565200@sewtheresac.com
SUMMARY:Projects Unlimited\, 1/22/25
DESCRIPTION:CLASS DESCRIPTIONWant to create? Stuck on your current project? Need a little advice or encouragement? I can help! Bring your machine(s) and a project of your choice and embark on the road to creative sewing. Work at your own pace and learn tips and techniques to make the most of your sewing time. If sewing a garment\, please bring your pattern in the proper size\, as I do not cover alterations in this class. \nFEES & DETAILS LISTED BELOW \nPAYMENT DUE BEFORE CLASSVenmo: @mselaineous51 OR PayPal: mselaineous51@hotmail.com \nQUESTIONS ABOUT THE CLASSEmail: mselaineous51@hotmail.com
URL:https://sewtheresac.com/event/projects-unlimited-1-22-25/
LOCATION:Meissner’s Folsom\, 98 Clarksville Road\, Suite 130\, Folsom\, CA\, 95630\, United States
ATTACH;FMTTYPE=image/jpeg:https://sewtheresac.com/wp-content/uploads/2024/06/One-Block-1-1.jpg
ORGANIZER;CN="Elaine Buchanan":MAILTO:mselaineous51@hotmail.com
END:VEVENT
END:VCALENDAR